BEGIN:VCALENDAR
VERSION:2.0
PRODID:-//North Halifax Partnership - ECPv6.15.20//NONSGML v1.0//EN
CALSCALE:GREGORIAN
METHOD:PUBLISH
X-WR-CALNAME:North Halifax Partnership
X-ORIGINAL-URL:https://northhalifaxpartnership.org
X-WR-CALDESC:Events for North Halifax Partnership
REFRESH-INTERVAL;VALUE=DURATION:PT1H
X-Robots-Tag:noindex
X-PUBLISHED-TTL:PT1H
BEGIN:VTIMEZONE
TZID:Europe/London
BEGIN:DAYLIGHT
TZOFFSETFROM:+0000
TZOFFSETTO:+0100
TZNAME:BST
DTSTART:20250330T010000
END:DAYLIGHT
BEGIN:STANDARD
TZOFFSETFROM:+0100
TZOFFSETTO:+0000
TZNAME:GMT
DTSTART:20251026T010000
END:STANDARD
BEGIN:DAYLIGHT
TZOFFSETFROM:+0000
TZOFFSETTO:+0100
TZNAME:BST
DTSTART:20260329T010000
END:DAYLIGHT
BEGIN:STANDARD
TZOFFSETFROM:+0100
TZOFFSETTO:+0000
TZNAME:GMT
DTSTART:20261025T010000
END:STANDARD
BEGIN:DAYLIGHT
TZOFFSETFROM:+0000
TZOFFSETTO:+0100
TZNAME:BST
DTSTART:20270328T010000
END:DAYLIGHT
BEGIN:STANDARD
TZOFFSETFROM:+0100
TZOFFSETTO:+0000
TZNAME:GMT
DTSTART:20271031T010000
END:STANDARD
END:VTIMEZONE
BEGIN:VEVENT
DTSTART;TZID=Europe/London:20260428T091500
DTEND;TZID=Europe/London:20260428T104500
DTSTAMP:20260424T172201
CREATED:20251107T130337Z
LAST-MODIFIED:20251107T130340Z
UID:10002064-1777367700-1777373100@northhalifaxpartnership.org
SUMMARY:Baby and Toddler Group
DESCRIPTION:Baby & Toddler Group \n\n\n\nUp to 4 years old \n\n\n\nTerm time only \n\n\n\nNo booking required \n\n\n\nFirst session free then £1.60 per family
URL:https://northhalifaxpartnership.org/event/baby-and-toddler-group/2026-04-28/
LOCATION:Creations Family Hub\, Albert Road\, HX2 0QD
CATEGORIES:Baby & Toddler Groups
ATTACH;FMTTYPE=image/png:https://northhalifaxpartnership.org/wp-content/uploads/2025/11/Wall-Planner-CENTRAL-AW-25.png
END:VEVENT
BEGIN:VEVENT
DTSTART;TZID=Europe/London:20260505T091500
DTEND;TZID=Europe/London:20260505T104500
DTSTAMP:20260424T172201
CREATED:20251107T130337Z
LAST-MODIFIED:20251107T130340Z
UID:10002065-1777972500-1777977900@northhalifaxpartnership.org
SUMMARY:Baby and Toddler Group
DESCRIPTION:Baby & Toddler Group \n\n\n\nUp to 4 years old \n\n\n\nTerm time only \n\n\n\nNo booking required \n\n\n\nFirst session free then £1.60 per family
URL:https://northhalifaxpartnership.org/event/baby-and-toddler-group/2026-05-05/
LOCATION:Creations Family Hub\, Albert Road\, HX2 0QD
CATEGORIES:Baby & Toddler Groups
ATTACH;FMTTYPE=image/png:https://northhalifaxpartnership.org/wp-content/uploads/2025/11/Wall-Planner-CENTRAL-AW-25.png
END:VEVENT
BEGIN:VEVENT
DTSTART;TZID=Europe/London:20260512T091500
DTEND;TZID=Europe/London:20260512T104500
DTSTAMP:20260424T172201
CREATED:20251107T130337Z
LAST-MODIFIED:20251107T130340Z
UID:10002066-1778577300-1778582700@northhalifaxpartnership.org
SUMMARY:Baby and Toddler Group
DESCRIPTION:Baby & Toddler Group \n\n\n\nUp to 4 years old \n\n\n\nTerm time only \n\n\n\nNo booking required \n\n\n\nFirst session free then £1.60 per family
URL:https://northhalifaxpartnership.org/event/baby-and-toddler-group/2026-05-12/
LOCATION:Creations Family Hub\, Albert Road\, HX2 0QD
CATEGORIES:Baby & Toddler Groups
ATTACH;FMTTYPE=image/png:https://northhalifaxpartnership.org/wp-content/uploads/2025/11/Wall-Planner-CENTRAL-AW-25.png
END:VEVENT
BEGIN:VEVENT
DTSTART;TZID=Europe/London:20260519T091500
DTEND;TZID=Europe/London:20260519T104500
DTSTAMP:20260424T172201
CREATED:20251107T130337Z
LAST-MODIFIED:20251107T130340Z
UID:10002067-1779182100-1779187500@northhalifaxpartnership.org
SUMMARY:Baby and Toddler Group
DESCRIPTION:Baby & Toddler Group \n\n\n\nUp to 4 years old \n\n\n\nTerm time only \n\n\n\nNo booking required \n\n\n\nFirst session free then £1.60 per family
URL:https://northhalifaxpartnership.org/event/baby-and-toddler-group/2026-05-19/
LOCATION:Creations Family Hub\, Albert Road\, HX2 0QD
CATEGORIES:Baby & Toddler Groups
ATTACH;FMTTYPE=image/png:https://northhalifaxpartnership.org/wp-content/uploads/2025/11/Wall-Planner-CENTRAL-AW-25.png
END:VEVENT
BEGIN:VEVENT
DTSTART;TZID=Europe/London:20260526T091500
DTEND;TZID=Europe/London:20260526T104500
DTSTAMP:20260424T172201
CREATED:20251107T130337Z
LAST-MODIFIED:20251107T130340Z
UID:10002068-1779786900-1779792300@northhalifaxpartnership.org
SUMMARY:Baby and Toddler Group
DESCRIPTION:Baby & Toddler Group \n\n\n\nUp to 4 years old \n\n\n\nTerm time only \n\n\n\nNo booking required \n\n\n\nFirst session free then £1.60 per family
URL:https://northhalifaxpartnership.org/event/baby-and-toddler-group/2026-05-26/
LOCATION:Creations Family Hub\, Albert Road\, HX2 0QD
CATEGORIES:Baby & Toddler Groups
ATTACH;FMTTYPE=image/png:https://northhalifaxpartnership.org/wp-content/uploads/2025/11/Wall-Planner-CENTRAL-AW-25.png
END:VEVENT
BEGIN:VEVENT
DTSTART;TZID=Europe/London:20260602T091500
DTEND;TZID=Europe/London:20260602T104500
DTSTAMP:20260424T172201
CREATED:20251107T130337Z
LAST-MODIFIED:20251107T130340Z
UID:10002069-1780391700-1780397100@northhalifaxpartnership.org
SUMMARY:Baby and Toddler Group
DESCRIPTION:Baby & Toddler Group \n\n\n\nUp to 4 years old \n\n\n\nTerm time only \n\n\n\nNo booking required \n\n\n\nFirst session free then £1.60 per family
URL:https://northhalifaxpartnership.org/event/baby-and-toddler-group/2026-06-02/
LOCATION:Creations Family Hub\, Albert Road\, HX2 0QD
CATEGORIES:Baby & Toddler Groups
ATTACH;FMTTYPE=image/png:https://northhalifaxpartnership.org/wp-content/uploads/2025/11/Wall-Planner-CENTRAL-AW-25.png
END:VEVENT
BEGIN:VEVENT
DTSTART;TZID=Europe/London:20260609T091500
DTEND;TZID=Europe/London:20260609T104500
DTSTAMP:20260424T172201
CREATED:20251107T130337Z
LAST-MODIFIED:20251107T130340Z
UID:10002070-1780996500-1781001900@northhalifaxpartnership.org
SUMMARY:Baby and Toddler Group
DESCRIPTION:Baby & Toddler Group \n\n\n\nUp to 4 years old \n\n\n\nTerm time only \n\n\n\nNo booking required \n\n\n\nFirst session free then £1.60 per family
URL:https://northhalifaxpartnership.org/event/baby-and-toddler-group/2026-06-09/
LOCATION:Creations Family Hub\, Albert Road\, HX2 0QD
CATEGORIES:Baby & Toddler Groups
ATTACH;FMTTYPE=image/png:https://northhalifaxpartnership.org/wp-content/uploads/2025/11/Wall-Planner-CENTRAL-AW-25.png
END:VEVENT
BEGIN:VEVENT
DTSTART;TZID=Europe/London:20260616T091500
DTEND;TZID=Europe/London:20260616T104500
DTSTAMP:20260424T172201
CREATED:20251107T130337Z
LAST-MODIFIED:20251107T130340Z
UID:10002071-1781601300-1781606700@northhalifaxpartnership.org
SUMMARY:Baby and Toddler Group
DESCRIPTION:Baby & Toddler Group \n\n\n\nUp to 4 years old \n\n\n\nTerm time only \n\n\n\nNo booking required \n\n\n\nFirst session free then £1.60 per family
URL:https://northhalifaxpartnership.org/event/baby-and-toddler-group/2026-06-16/
LOCATION:Creations Family Hub\, Albert Road\, HX2 0QD
CATEGORIES:Baby & Toddler Groups
ATTACH;FMTTYPE=image/png:https://northhalifaxpartnership.org/wp-content/uploads/2025/11/Wall-Planner-CENTRAL-AW-25.png
END:VEVENT
BEGIN:VEVENT
DTSTART;TZID=Europe/London:20260623T091500
DTEND;TZID=Europe/London:20260623T104500
DTSTAMP:20260424T172201
CREATED:20251107T130337Z
LAST-MODIFIED:20251107T130340Z
UID:10002072-1782206100-1782211500@northhalifaxpartnership.org
SUMMARY:Baby and Toddler Group
DESCRIPTION:Baby & Toddler Group \n\n\n\nUp to 4 years old \n\n\n\nTerm time only \n\n\n\nNo booking required \n\n\n\nFirst session free then £1.60 per family
URL:https://northhalifaxpartnership.org/event/baby-and-toddler-group/2026-06-23/
LOCATION:Creations Family Hub\, Albert Road\, HX2 0QD
CATEGORIES:Baby & Toddler Groups
ATTACH;FMTTYPE=image/png:https://northhalifaxpartnership.org/wp-content/uploads/2025/11/Wall-Planner-CENTRAL-AW-25.png
END:VEVENT
BEGIN:VEVENT
DTSTART;TZID=Europe/London:20260630T091500
DTEND;TZID=Europe/London:20260630T104500
DTSTAMP:20260424T172201
CREATED:20251107T130337Z
LAST-MODIFIED:20251107T130340Z
UID:10002073-1782810900-1782816300@northhalifaxpartnership.org
SUMMARY:Baby and Toddler Group
DESCRIPTION:Baby & Toddler Group \n\n\n\nUp to 4 years old \n\n\n\nTerm time only \n\n\n\nNo booking required \n\n\n\nFirst session free then £1.60 per family
URL:https://northhalifaxpartnership.org/event/baby-and-toddler-group/2026-06-30/
LOCATION:Creations Family Hub\, Albert Road\, HX2 0QD
CATEGORIES:Baby & Toddler Groups
ATTACH;FMTTYPE=image/png:https://northhalifaxpartnership.org/wp-content/uploads/2025/11/Wall-Planner-CENTRAL-AW-25.png
END:VEVENT
BEGIN:VEVENT
DTSTART;TZID=Europe/London:20260707T091500
DTEND;TZID=Europe/London:20260707T104500
DTSTAMP:20260424T172201
CREATED:20251107T130337Z
LAST-MODIFIED:20251107T130340Z
UID:10002074-1783415700-1783421100@northhalifaxpartnership.org
SUMMARY:Baby and Toddler Group
DESCRIPTION:Baby & Toddler Group \n\n\n\nUp to 4 years old \n\n\n\nTerm time only \n\n\n\nNo booking required \n\n\n\nFirst session free then £1.60 per family
URL:https://northhalifaxpartnership.org/event/baby-and-toddler-group/2026-07-07/
LOCATION:Creations Family Hub\, Albert Road\, HX2 0QD
CATEGORIES:Baby & Toddler Groups
ATTACH;FMTTYPE=image/png:https://northhalifaxpartnership.org/wp-content/uploads/2025/11/Wall-Planner-CENTRAL-AW-25.png
END:VEVENT
BEGIN:VEVENT
DTSTART;TZID=Europe/London:20260714T091500
DTEND;TZID=Europe/London:20260714T104500
DTSTAMP:20260424T172201
CREATED:20251107T130337Z
LAST-MODIFIED:20251107T130340Z
UID:10002075-1784020500-1784025900@northhalifaxpartnership.org
SUMMARY:Baby and Toddler Group
DESCRIPTION:Baby & Toddler Group \n\n\n\nUp to 4 years old \n\n\n\nTerm time only \n\n\n\nNo booking required \n\n\n\nFirst session free then £1.60 per family
URL:https://northhalifaxpartnership.org/event/baby-and-toddler-group/2026-07-14/
LOCATION:Creations Family Hub\, Albert Road\, HX2 0QD
CATEGORIES:Baby & Toddler Groups
ATTACH;FMTTYPE=image/png:https://northhalifaxpartnership.org/wp-content/uploads/2025/11/Wall-Planner-CENTRAL-AW-25.png
END:VEVENT
BEGIN:VEVENT
DTSTART;TZID=Europe/London:20260721T091500
DTEND;TZID=Europe/London:20260721T104500
DTSTAMP:20260424T172201
CREATED:20251107T130337Z
LAST-MODIFIED:20251107T130340Z
UID:10002076-1784625300-1784630700@northhalifaxpartnership.org
SUMMARY:Baby and Toddler Group
DESCRIPTION:Baby & Toddler Group \n\n\n\nUp to 4 years old \n\n\n\nTerm time only \n\n\n\nNo booking required \n\n\n\nFirst session free then £1.60 per family
URL:https://northhalifaxpartnership.org/event/baby-and-toddler-group/2026-07-21/
LOCATION:Creations Family Hub\, Albert Road\, HX2 0QD
CATEGORIES:Baby & Toddler Groups
ATTACH;FMTTYPE=image/png:https://northhalifaxpartnership.org/wp-content/uploads/2025/11/Wall-Planner-CENTRAL-AW-25.png
END:VEVENT
BEGIN:VEVENT
DTSTART;TZID=Europe/London:20260728T091500
DTEND;TZID=Europe/London:20260728T104500
DTSTAMP:20260424T172201
CREATED:20251107T130337Z
LAST-MODIFIED:20251107T130340Z
UID:10002077-1785230100-1785235500@northhalifaxpartnership.org
SUMMARY:Baby and Toddler Group
DESCRIPTION:Baby & Toddler Group \n\n\n\nUp to 4 years old \n\n\n\nTerm time only \n\n\n\nNo booking required \n\n\n\nFirst session free then £1.60 per family
URL:https://northhalifaxpartnership.org/event/baby-and-toddler-group/2026-07-28/
LOCATION:Creations Family Hub\, Albert Road\, HX2 0QD
CATEGORIES:Baby & Toddler Groups
ATTACH;FMTTYPE=image/png:https://northhalifaxpartnership.org/wp-content/uploads/2025/11/Wall-Planner-CENTRAL-AW-25.png
END:VEVENT
BEGIN:VEVENT
DTSTART;TZID=Europe/London:20260804T091500
DTEND;TZID=Europe/London:20260804T104500
DTSTAMP:20260424T172201
CREATED:20251107T130337Z
LAST-MODIFIED:20251107T130340Z
UID:10002078-1785834900-1785840300@northhalifaxpartnership.org
SUMMARY:Baby and Toddler Group
DESCRIPTION:Baby & Toddler Group \n\n\n\nUp to 4 years old \n\n\n\nTerm time only \n\n\n\nNo booking required \n\n\n\nFirst session free then £1.60 per family
URL:https://northhalifaxpartnership.org/event/baby-and-toddler-group/2026-08-04/
LOCATION:Creations Family Hub\, Albert Road\, HX2 0QD
CATEGORIES:Baby & Toddler Groups
ATTACH;FMTTYPE=image/png:https://northhalifaxpartnership.org/wp-content/uploads/2025/11/Wall-Planner-CENTRAL-AW-25.png
END:VEVENT
BEGIN:VEVENT
DTSTART;TZID=Europe/London:20260811T091500
DTEND;TZID=Europe/London:20260811T104500
DTSTAMP:20260424T172201
CREATED:20251107T130337Z
LAST-MODIFIED:20251107T130340Z
UID:10002079-1786439700-1786445100@northhalifaxpartnership.org
SUMMARY:Baby and Toddler Group
DESCRIPTION:Baby & Toddler Group \n\n\n\nUp to 4 years old \n\n\n\nTerm time only \n\n\n\nNo booking required \n\n\n\nFirst session free then £1.60 per family
URL:https://northhalifaxpartnership.org/event/baby-and-toddler-group/2026-08-11/
LOCATION:Creations Family Hub\, Albert Road\, HX2 0QD
CATEGORIES:Baby & Toddler Groups
ATTACH;FMTTYPE=image/png:https://northhalifaxpartnership.org/wp-content/uploads/2025/11/Wall-Planner-CENTRAL-AW-25.png
END:VEVENT
BEGIN:VEVENT
DTSTART;TZID=Europe/London:20260818T091500
DTEND;TZID=Europe/London:20260818T104500
DTSTAMP:20260424T172201
CREATED:20251107T130337Z
LAST-MODIFIED:20251107T130340Z
UID:10002080-1787044500-1787049900@northhalifaxpartnership.org
SUMMARY:Baby and Toddler Group
DESCRIPTION:Baby & Toddler Group \n\n\n\nUp to 4 years old \n\n\n\nTerm time only \n\n\n\nNo booking required \n\n\n\nFirst session free then £1.60 per family
URL:https://northhalifaxpartnership.org/event/baby-and-toddler-group/2026-08-18/
LOCATION:Creations Family Hub\, Albert Road\, HX2 0QD
CATEGORIES:Baby & Toddler Groups
ATTACH;FMTTYPE=image/png:https://northhalifaxpartnership.org/wp-content/uploads/2025/11/Wall-Planner-CENTRAL-AW-25.png
END:VEVENT
BEGIN:VEVENT
DTSTART;TZID=Europe/London:20260825T091500
DTEND;TZID=Europe/London:20260825T104500
DTSTAMP:20260424T172201
CREATED:20251107T130337Z
LAST-MODIFIED:20251107T130340Z
UID:10002081-1787649300-1787654700@northhalifaxpartnership.org
SUMMARY:Baby and Toddler Group
DESCRIPTION:Baby & Toddler Group \n\n\n\nUp to 4 years old \n\n\n\nTerm time only \n\n\n\nNo booking required \n\n\n\nFirst session free then £1.60 per family
URL:https://northhalifaxpartnership.org/event/baby-and-toddler-group/2026-08-25/
LOCATION:Creations Family Hub\, Albert Road\, HX2 0QD
CATEGORIES:Baby & Toddler Groups
ATTACH;FMTTYPE=image/png:https://northhalifaxpartnership.org/wp-content/uploads/2025/11/Wall-Planner-CENTRAL-AW-25.png
END:VEVENT
BEGIN:VEVENT
DTSTART;TZID=Europe/London:20260901T091500
DTEND;TZID=Europe/London:20260901T104500
DTSTAMP:20260424T172201
CREATED:20251107T130337Z
LAST-MODIFIED:20251107T130340Z
UID:10002082-1788254100-1788259500@northhalifaxpartnership.org
SUMMARY:Baby and Toddler Group
DESCRIPTION:Baby & Toddler Group \n\n\n\nUp to 4 years old \n\n\n\nTerm time only \n\n\n\nNo booking required \n\n\n\nFirst session free then £1.60 per family
URL:https://northhalifaxpartnership.org/event/baby-and-toddler-group/2026-09-01/
LOCATION:Creations Family Hub\, Albert Road\, HX2 0QD
CATEGORIES:Baby & Toddler Groups
ATTACH;FMTTYPE=image/png:https://northhalifaxpartnership.org/wp-content/uploads/2025/11/Wall-Planner-CENTRAL-AW-25.png
END:VEVENT
BEGIN:VEVENT
DTSTART;TZID=Europe/London:20260908T091500
DTEND;TZID=Europe/London:20260908T104500
DTSTAMP:20260424T172201
CREATED:20251107T130337Z
LAST-MODIFIED:20251107T130340Z
UID:10002083-1788858900-1788864300@northhalifaxpartnership.org
SUMMARY:Baby and Toddler Group
DESCRIPTION:Baby & Toddler Group \n\n\n\nUp to 4 years old \n\n\n\nTerm time only \n\n\n\nNo booking required \n\n\n\nFirst session free then £1.60 per family
URL:https://northhalifaxpartnership.org/event/baby-and-toddler-group/2026-09-08/
LOCATION:Creations Family Hub\, Albert Road\, HX2 0QD
CATEGORIES:Baby & Toddler Groups
ATTACH;FMTTYPE=image/png:https://northhalifaxpartnership.org/wp-content/uploads/2025/11/Wall-Planner-CENTRAL-AW-25.png
END:VEVENT
BEGIN:VEVENT
DTSTART;TZID=Europe/London:20260915T091500
DTEND;TZID=Europe/London:20260915T104500
DTSTAMP:20260424T172201
CREATED:20251107T130337Z
LAST-MODIFIED:20251107T130340Z
UID:10002084-1789463700-1789469100@northhalifaxpartnership.org
SUMMARY:Baby and Toddler Group
DESCRIPTION:Baby & Toddler Group \n\n\n\nUp to 4 years old \n\n\n\nTerm time only \n\n\n\nNo booking required \n\n\n\nFirst session free then £1.60 per family
URL:https://northhalifaxpartnership.org/event/baby-and-toddler-group/2026-09-15/
LOCATION:Creations Family Hub\, Albert Road\, HX2 0QD
CATEGORIES:Baby & Toddler Groups
ATTACH;FMTTYPE=image/png:https://northhalifaxpartnership.org/wp-content/uploads/2025/11/Wall-Planner-CENTRAL-AW-25.png
END:VEVENT
BEGIN:VEVENT
DTSTART;TZID=Europe/London:20260922T091500
DTEND;TZID=Europe/London:20260922T104500
DTSTAMP:20260424T172201
CREATED:20251107T130337Z
LAST-MODIFIED:20251107T130340Z
UID:10002085-1790068500-1790073900@northhalifaxpartnership.org
SUMMARY:Baby and Toddler Group
DESCRIPTION:Baby & Toddler Group \n\n\n\nUp to 4 years old \n\n\n\nTerm time only \n\n\n\nNo booking required \n\n\n\nFirst session free then £1.60 per family
URL:https://northhalifaxpartnership.org/event/baby-and-toddler-group/2026-09-22/
LOCATION:Creations Family Hub\, Albert Road\, HX2 0QD
CATEGORIES:Baby & Toddler Groups
ATTACH;FMTTYPE=image/png:https://northhalifaxpartnership.org/wp-content/uploads/2025/11/Wall-Planner-CENTRAL-AW-25.png
END:VEVENT
BEGIN:VEVENT
DTSTART;TZID=Europe/London:20260929T091500
DTEND;TZID=Europe/London:20260929T104500
DTSTAMP:20260424T172201
CREATED:20251107T130337Z
LAST-MODIFIED:20251107T130340Z
UID:10002086-1790673300-1790678700@northhalifaxpartnership.org
SUMMARY:Baby and Toddler Group
DESCRIPTION:Baby & Toddler Group \n\n\n\nUp to 4 years old \n\n\n\nTerm time only \n\n\n\nNo booking required \n\n\n\nFirst session free then £1.60 per family
URL:https://northhalifaxpartnership.org/event/baby-and-toddler-group/2026-09-29/
LOCATION:Creations Family Hub\, Albert Road\, HX2 0QD
CATEGORIES:Baby & Toddler Groups
ATTACH;FMTTYPE=image/png:https://northhalifaxpartnership.org/wp-content/uploads/2025/11/Wall-Planner-CENTRAL-AW-25.png
END:VEVENT
BEGIN:VEVENT
DTSTART;TZID=Europe/London:20261006T091500
DTEND;TZID=Europe/London:20261006T104500
DTSTAMP:20260424T172201
CREATED:20251107T130337Z
LAST-MODIFIED:20251107T130340Z
UID:10002087-1791278100-1791283500@northhalifaxpartnership.org
SUMMARY:Baby and Toddler Group
DESCRIPTION:Baby & Toddler Group \n\n\n\nUp to 4 years old \n\n\n\nTerm time only \n\n\n\nNo booking required \n\n\n\nFirst session free then £1.60 per family
URL:https://northhalifaxpartnership.org/event/baby-and-toddler-group/2026-10-06/
LOCATION:Creations Family Hub\, Albert Road\, HX2 0QD
CATEGORIES:Baby & Toddler Groups
ATTACH;FMTTYPE=image/png:https://northhalifaxpartnership.org/wp-content/uploads/2025/11/Wall-Planner-CENTRAL-AW-25.png
END:VEVENT
BEGIN:VEVENT
DTSTART;TZID=Europe/London:20261013T091500
DTEND;TZID=Europe/London:20261013T104500
DTSTAMP:20260424T172201
CREATED:20251107T130337Z
LAST-MODIFIED:20251107T130340Z
UID:10002088-1791882900-1791888300@northhalifaxpartnership.org
SUMMARY:Baby and Toddler Group
DESCRIPTION:Baby & Toddler Group \n\n\n\nUp to 4 years old \n\n\n\nTerm time only \n\n\n\nNo booking required \n\n\n\nFirst session free then £1.60 per family
URL:https://northhalifaxpartnership.org/event/baby-and-toddler-group/2026-10-13/
LOCATION:Creations Family Hub\, Albert Road\, HX2 0QD
CATEGORIES:Baby & Toddler Groups
ATTACH;FMTTYPE=image/png:https://northhalifaxpartnership.org/wp-content/uploads/2025/11/Wall-Planner-CENTRAL-AW-25.png
END:VEVENT
BEGIN:VEVENT
DTSTART;TZID=Europe/London:20261020T091500
DTEND;TZID=Europe/London:20261020T104500
DTSTAMP:20260424T172201
CREATED:20251107T130337Z
LAST-MODIFIED:20251107T130340Z
UID:10002089-1792487700-1792493100@northhalifaxpartnership.org
SUMMARY:Baby and Toddler Group
DESCRIPTION:Baby & Toddler Group \n\n\n\nUp to 4 years old \n\n\n\nTerm time only \n\n\n\nNo booking required \n\n\n\nFirst session free then £1.60 per family
URL:https://northhalifaxpartnership.org/event/baby-and-toddler-group/2026-10-20/
LOCATION:Creations Family Hub\, Albert Road\, HX2 0QD
CATEGORIES:Baby & Toddler Groups
ATTACH;FMTTYPE=image/png:https://northhalifaxpartnership.org/wp-content/uploads/2025/11/Wall-Planner-CENTRAL-AW-25.png
END:VEVENT
BEGIN:VEVENT
DTSTART;TZID=Europe/London:20261027T091500
DTEND;TZID=Europe/London:20261027T104500
DTSTAMP:20260424T172201
CREATED:20251107T130337Z
LAST-MODIFIED:20251107T130340Z
UID:10002090-1793092500-1793097900@northhalifaxpartnership.org
SUMMARY:Baby and Toddler Group
DESCRIPTION:Baby & Toddler Group \n\n\n\nUp to 4 years old \n\n\n\nTerm time only \n\n\n\nNo booking required \n\n\n\nFirst session free then £1.60 per family
URL:https://northhalifaxpartnership.org/event/baby-and-toddler-group/2026-10-27/
LOCATION:Creations Family Hub\, Albert Road\, HX2 0QD
CATEGORIES:Baby & Toddler Groups
ATTACH;FMTTYPE=image/png:https://northhalifaxpartnership.org/wp-content/uploads/2025/11/Wall-Planner-CENTRAL-AW-25.png
END:VEVENT
BEGIN:VEVENT
DTSTART;TZID=Europe/London:20261103T091500
DTEND;TZID=Europe/London:20261103T104500
DTSTAMP:20260424T172201
CREATED:20251107T130337Z
LAST-MODIFIED:20251107T130340Z
UID:10002091-1793697300-1793702700@northhalifaxpartnership.org
SUMMARY:Baby and Toddler Group
DESCRIPTION:Baby & Toddler Group \n\n\n\nUp to 4 years old \n\n\n\nTerm time only \n\n\n\nNo booking required \n\n\n\nFirst session free then £1.60 per family
URL:https://northhalifaxpartnership.org/event/baby-and-toddler-group/2026-11-03/
LOCATION:Creations Family Hub\, Albert Road\, HX2 0QD
CATEGORIES:Baby & Toddler Groups
ATTACH;FMTTYPE=image/png:https://northhalifaxpartnership.org/wp-content/uploads/2025/11/Wall-Planner-CENTRAL-AW-25.png
END:VEVENT
BEGIN:VEVENT
DTSTART;TZID=Europe/London:20261110T091500
DTEND;TZID=Europe/London:20261110T104500
DTSTAMP:20260424T172201
CREATED:20251107T130337Z
LAST-MODIFIED:20251107T130340Z
UID:10002092-1794302100-1794307500@northhalifaxpartnership.org
SUMMARY:Baby and Toddler Group
DESCRIPTION:Baby & Toddler Group \n\n\n\nUp to 4 years old \n\n\n\nTerm time only \n\n\n\nNo booking required \n\n\n\nFirst session free then £1.60 per family
URL:https://northhalifaxpartnership.org/event/baby-and-toddler-group/2026-11-10/
LOCATION:Creations Family Hub\, Albert Road\, HX2 0QD
CATEGORIES:Baby & Toddler Groups
ATTACH;FMTTYPE=image/png:https://northhalifaxpartnership.org/wp-content/uploads/2025/11/Wall-Planner-CENTRAL-AW-25.png
END:VEVENT
BEGIN:VEVENT
DTSTART;TZID=Europe/London:20261117T091500
DTEND;TZID=Europe/London:20261117T104500
DTSTAMP:20260424T172201
CREATED:20251107T130337Z
LAST-MODIFIED:20251107T130340Z
UID:10002093-1794906900-1794912300@northhalifaxpartnership.org
SUMMARY:Baby and Toddler Group
DESCRIPTION:Baby & Toddler Group \n\n\n\nUp to 4 years old \n\n\n\nTerm time only \n\n\n\nNo booking required \n\n\n\nFirst session free then £1.60 per family
URL:https://northhalifaxpartnership.org/event/baby-and-toddler-group/2026-11-17/
LOCATION:Creations Family Hub\, Albert Road\, HX2 0QD
CATEGORIES:Baby & Toddler Groups
ATTACH;FMTTYPE=image/png:https://northhalifaxpartnership.org/wp-content/uploads/2025/11/Wall-Planner-CENTRAL-AW-25.png
END:VEVENT
END:VCALENDAR