BEGIN:VCALENDAR
VERSION:2.0
PRODID:-//North Halifax Partnership - ECPv6.15.20//NONSGML v1.0//EN
CALSCALE:GREGORIAN
METHOD:PUBLISH
X-WR-CALNAME:North Halifax Partnership
X-ORIGINAL-URL:https://northhalifaxpartnership.org
X-WR-CALDESC:Events for North Halifax Partnership
REFRESH-INTERVAL;VALUE=DURATION:PT1H
X-Robots-Tag:noindex
X-PUBLISHED-TTL:PT1H
BEGIN:VTIMEZONE
TZID:Europe/London
BEGIN:DAYLIGHT
TZOFFSETFROM:+0000
TZOFFSETTO:+0100
TZNAME:BST
DTSTART:20240331T010000
END:DAYLIGHT
BEGIN:STANDARD
TZOFFSETFROM:+0100
TZOFFSETTO:+0000
TZNAME:GMT
DTSTART:20241027T010000
END:STANDARD
BEGIN:DAYLIGHT
TZOFFSETFROM:+0000
TZOFFSETTO:+0100
TZNAME:BST
DTSTART:20250330T010000
END:DAYLIGHT
BEGIN:STANDARD
TZOFFSETFROM:+0100
TZOFFSETTO:+0000
TZNAME:GMT
DTSTART:20251026T010000
END:STANDARD
BEGIN:DAYLIGHT
TZOFFSETFROM:+0000
TZOFFSETTO:+0100
TZNAME:BST
DTSTART:20260329T010000
END:DAYLIGHT
BEGIN:STANDARD
TZOFFSETFROM:+0100
TZOFFSETTO:+0000
TZNAME:GMT
DTSTART:20261025T010000
END:STANDARD
END:VTIMEZONE
BEGIN:VEVENT
DTSTART;TZID=Europe/London:20251218T183000
DTEND;TZID=Europe/London:20251218T193000
DTSTAMP:20260424T142345
CREATED:20251103T130117Z
LAST-MODIFIED:20251103T130120Z
UID:10000964-1766082600-1766086200@northhalifaxpartnership.org
SUMMARY:Zumba
DESCRIPTION:Mandy is doing Zumba in the MAC! \n\n\n\nOpen to everyone\, just turn up\, no need to book. \n\n\n\n£4 per session.
URL:https://northhalifaxpartnership.org/event/zumba/2025-12-18/
CATEGORIES:Health & Wellbeing,Mixenden Activity Centre
ATTACH;FMTTYPE=image/webp:https://northhalifaxpartnership.org/wp-content/uploads/2025/10/zumba.webp
END:VEVENT
BEGIN:VEVENT
DTSTART;TZID=Europe/London:20251218T113000
DTEND;TZID=Europe/London:20251218T133000
DTSTAMP:20260424T142345
CREATED:20251010T120237Z
LAST-MODIFIED:20251103T122846Z
UID:10000411-1766057400-1766064600@northhalifaxpartnership.org
SUMMARY:Community Kitchen
DESCRIPTION:Community Kitchen \n\n\n\nEat\, Learn & ConnectCome along and enjoy: \n\n\n\n\nA delicious\, healthy free lunch\n\n\n\nFun health & wellbeing activities\n\n\n\nA chance to connect with others in your community\n\n\n\n\nEveryone welcome!No cost. No booking. Just turn up.Takeaway option available for the kids!
URL:https://northhalifaxpartnership.org/event/community-kitchen/2025-12-18/
LOCATION:Mixenden Activity Centre\, Clough Lane\, Mixenden\, HX2 8SH
CATEGORIES:Mixenden Activity Centre
ATTACH;FMTTYPE=image/webp:https://northhalifaxpartnership.org/wp-content/uploads/2025/10/Community-Kitchen.webp
END:VEVENT
BEGIN:VEVENT
DTSTART;TZID=Europe/London:20251218T110000
DTEND;TZID=Europe/London:20251218T130000
DTSTAMP:20260424T142345
CREATED:20251001T095238Z
LAST-MODIFIED:20251001T104300Z
UID:10000097-1766055600-1766062800@northhalifaxpartnership.org
SUMMARY:Craft & Connect at The MAC
DESCRIPTION:Craft group at Mixenden Activity Centre \n\n\n\n£2 per session \n\n\n\nContact Bernadette on 07901378786 for more information
URL:https://northhalifaxpartnership.org/event/craft-connect/2025-12-18/
LOCATION:Mixenden Activity Centre\, Clough Lane\, Mixenden\, HX2 8SH
CATEGORIES:Community Events,Mixenden Activity Centre
ATTACH;FMTTYPE=image/webp:https://northhalifaxpartnership.org/wp-content/uploads/2025/10/craft-and-connect_20250910_204702_0000.webp
END:VEVENT
BEGIN:VEVENT
DTSTART;TZID=Europe/London:20251218T033000
DTEND;TZID=Europe/London:20251218T180000
DTSTAMP:20260424T142345
CREATED:20251203T143615Z
LAST-MODIFIED:20251203T143619Z
UID:10002357-1766028600-1766080800@northhalifaxpartnership.org
SUMMARY:Shroggs Park Christmas Crafts and Lantern Walk
DESCRIPTION:Decorate a Christmas Lantern at St George’s Hall\, followed by a walk around Shroggs Park to meet Santa in his Grotto. \n\n\n\nFREE FOOD by St George’s Trust \n\n\n\nBOOKING ESSENTIAL! Email communitiesteam@nhpltd.org.uk
URL:https://northhalifaxpartnership.org/event/shroggs-park-christmas-crafts-and-lantern-walk/
LOCATION:St George’s Hall\, Lilac Street\, HX3 5BT
CATEGORIES:Christmas Events,Community Events
ATTACH;FMTTYPE=image/png:https://northhalifaxpartnership.org/wp-content/uploads/2025/12/Shroggs-Park-Christmas-Crafts-Logo.png
END:VEVENT
BEGIN:VEVENT
DTSTART;TZID=Europe/London:20251217T100000
DTEND;TZID=Europe/London:20251217T120000
DTSTAMP:20260424T142345
CREATED:20251103T143531Z
LAST-MODIFIED:20251103T143534Z
UID:10001776-1765965600-1765972800@northhalifaxpartnership.org
SUMMARY:New Chapter\, New Me
DESCRIPTION:Have you been through your own cancer journey? \n\n\n\nWould you like to connect with others \n\n\n\nwho have had similar experiences? \n\n\n\nJoin our coffee morning for women who have been through their own cancer journey. Let’s come together to support each other and embrace your new version of yourself.
URL:https://northhalifaxpartnership.org/event/new-chapter-new-me/2025-12-17/
LOCATION:Illingworth Family Hub\, Occupation Lane\, Halifax\, HX2 9RL
CATEGORIES:Community Events,Health & Wellbeing,Staying Well
ATTACH;FMTTYPE=image/png:https://northhalifaxpartnership.org/wp-content/uploads/2025/11/New-Chapter-new-me-Facebook-Post.png
END:VEVENT
BEGIN:VEVENT
DTSTART;TZID=Europe/London:20251217T093000
DTEND;TZID=Europe/London:20251217T113000
DTSTAMP:20260424T142345
CREATED:20251103T122432Z
LAST-MODIFIED:20251103T123139Z
UID:10000683-1765963800-1765971000@northhalifaxpartnership.org
SUMMARY:Dodgeholme Residential Meeting - Shine Within
DESCRIPTION:The residents group at Dodgeholme monthly meeting supported by NHP & Together Housing. \n\n\n\nPeople from the community are welcome to join the group.
URL:https://northhalifaxpartnership.org/event/dodgeholme-residential-meeting-shine-within-3/2025-12-17/
LOCATION:Mixenden Activity Centre\, Clough Lane\, Mixenden\, HX2 8SH
CATEGORIES:Community Events,Mixenden Activity Centre
ATTACH;FMTTYPE=image/jpeg:https://northhalifaxpartnership.org/wp-content/uploads/2025/09/dodgeholme.jpg
END:VEVENT
BEGIN:VEVENT
DTSTART;TZID=Europe/London:20251216T150000
DTEND;TZID=Europe/London:20251216T180000
DTSTAMP:20260424T142345
CREATED:20251103T132538Z
LAST-MODIFIED:20251103T132705Z
UID:10001230-1765897200-1765908000@northhalifaxpartnership.org
SUMMARY:Play Development Service
DESCRIPTION:They work on an open-access basis. \n\n\n\nChildren and young people are supervised\, but the parent or guardian is still responsible for them. \n\n\n\nYou are free to come and go as you please. \n\n\n\nThey offer a range of free play activities\, chosen by children and young people. \n\n\n\nThese can get messy\, so do please come in clothes that suit the activity and weather. \n\n\n\nContact them:\n\n\n\nPhone: \n\n\n\n07799 430175 or 07966 151413 (Play Leader) in case of an emergency. \n\n\n\n01422 380995 (Play Development Service) for more details or help.
URL:https://northhalifaxpartnership.org/event/play-development-service/2025-12-16/
LOCATION:Mixenden Activity Centre\, Clough Lane\, Mixenden\, HX2 8SH
CATEGORIES:Community Events,Family Support,Health & Wellbeing,Mixenden Activity Centre
ATTACH;FMTTYPE=image/jpeg:https://northhalifaxpartnership.org/wp-content/uploads/2025/11/Play-development-service-banner.jpg
END:VEVENT
BEGIN:VEVENT
DTSTART;TZID=Europe/London:20251216T091500
DTEND;TZID=Europe/London:20251216T104500
DTSTAMP:20260424T142345
CREATED:20251107T130337Z
LAST-MODIFIED:20251107T130340Z
UID:10002045-1765876500-1765881900@northhalifaxpartnership.org
SUMMARY:Baby and Toddler Group
DESCRIPTION:Baby & Toddler Group \n\n\n\nUp to 4 years old \n\n\n\nTerm time only \n\n\n\nNo booking required \n\n\n\nFirst session free then £1.60 per family
URL:https://northhalifaxpartnership.org/event/baby-and-toddler-group/2025-12-16/
LOCATION:Creations Family Hub\, Albert Road\, HX2 0QD
CATEGORIES:Baby & Toddler Groups
ATTACH;FMTTYPE=image/png:https://northhalifaxpartnership.org/wp-content/uploads/2025/11/Wall-Planner-CENTRAL-AW-25.png
END:VEVENT
BEGIN:VEVENT
DTSTART;TZID=Europe/London:20251215T110000
DTEND;TZID=Europe/London:20251215T123000
DTSTAMP:20260424T142345
CREATED:20251001T093441Z
LAST-MODIFIED:20251001T104617Z
UID:10000352-1765796400-1765801800@northhalifaxpartnership.org
SUMMARY:Elland Craft Group
DESCRIPTION:Join us at Elland Craft Group! \n\n\n\n\nCraft & Chat\n\n\n\nMake new friends\n\n\n\nTry something new\n\n\n\nImprove your wellbeing\n\n\n\n\nAlternate Mondays 11am to 12.30pm at Elland Community Hub
URL:https://northhalifaxpartnership.org/event/elland-craft-group-2/2025-12-15/
LOCATION:Elland Community Hub\, Huddersfield Rd\, Elland\, HX5 9DL
CATEGORIES:Community Events,Health & Wellbeing,Staying Well
ATTACH;FMTTYPE=image/webp:https://northhalifaxpartnership.org/wp-content/uploads/2025/10/Elland-Create-Craft-Group-FB-no-date.webp
END:VEVENT
BEGIN:VEVENT
DTSTART;TZID=Europe/London:20251215T080000
DTEND;TZID=Europe/London:20251215T170000
DTSTAMP:20260424T142345
CREATED:20251001T110732Z
LAST-MODIFIED:20251001T110736Z
UID:10000386-1765785600-1765818000@northhalifaxpartnership.org
SUMMARY:Free 12-Week Gentle Exercise Course
DESCRIPTION:A new 12-week Gentle Exercise programme is launching at Mixenden Activity Centre (MAC) this September. This free course is open to anyone living with cancer or other long-term health conditions and offers a welcoming\, supportive space to improve wellbeing through gentle movement and connection. \n\n\n\nWhat’s included: \n\n\n\n\nGentle armchair-based exercises\n\n\n\nRelaxation\, reflection and talktime\n\n\n\nGames and a weekly raffle\n\n\n\n\nSessions are led by Lauren\, a Level 4 exercise instructor with specialist training in cancer pre/rehab and cardiac rehabilitation. Lisa\, a Cancer Support and Staying Well worker\, will also be on hand to offer emotional support and signposting to other services. \n\n\n\nCourse details: \n\n\n\n\nEvery Monday – Starts 15th September\n\n\n\nTime: 10.00am – 11.30am\n\n\n\nVenue: Mixenden Activity Centre (MAC)\, Clough Lane\, Mixenden\, HX2 8SH\n\n\n\nFree to attend (donations welcome)\n\n\n\n\nTo find out more or book your place\, please contact Lauren on 07956 940 829. \n\n\n\nThis course is supported by Macmillan Cancer Support\, West Yorkshire and Harrogate Cancer Alliance\, and Staying Well.
URL:https://northhalifaxpartnership.org/event/free-12-week-gentle-exercise-course/2025-12-15/
LOCATION:Mixenden Activity Centre\, Clough Lane\, Mixenden\, HX2 8SH
CATEGORIES:Mixenden Activity Centre,Staying Well
ATTACH;FMTTYPE=image/webp:https://northhalifaxpartnership.org/wp-content/uploads/2025/10/Gentle-Parenting.webp
END:VEVENT
BEGIN:VEVENT
DTSTART;TZID=Europe/London:20251213T100000
DTEND;TZID=Europe/London:20251213T120000
DTSTAMP:20260424T142345
CREATED:20251027T113705Z
LAST-MODIFIED:20251027T113708Z
UID:10000673-1765620000-1765627200@northhalifaxpartnership.org
SUMMARY:Family Fun Time
DESCRIPTION:Join us for lots of free fun activities for all the family. There will be creative activities\, messy play\, games\, music and much more. Dads and male carers welcome. Suitable for families with children aged 0 – 8 years old.
URL:https://northhalifaxpartnership.org/event/family-fun-time-2/
CATEGORIES:Family Hubs
END:VEVENT
BEGIN:VEVENT
DTSTART;TZID=Europe/London:20251211T183000
DTEND;TZID=Europe/London:20251211T193000
DTSTAMP:20260424T142345
CREATED:20251103T130117Z
LAST-MODIFIED:20251103T130120Z
UID:10000963-1765477800-1765481400@northhalifaxpartnership.org
SUMMARY:Zumba
DESCRIPTION:Mandy is doing Zumba in the MAC! \n\n\n\nOpen to everyone\, just turn up\, no need to book. \n\n\n\n£4 per session.
URL:https://northhalifaxpartnership.org/event/zumba/2025-12-11/
CATEGORIES:Health & Wellbeing,Mixenden Activity Centre
ATTACH;FMTTYPE=image/webp:https://northhalifaxpartnership.org/wp-content/uploads/2025/10/zumba.webp
END:VEVENT
BEGIN:VEVENT
DTSTART;TZID=Europe/London:20251211T180000
DTEND;TZID=Europe/London:20251211T200000
DTSTAMP:20260424T142345
CREATED:20251203T070309Z
LAST-MODIFIED:20251203T070311Z
UID:10002356-1765476000-1765483200@northhalifaxpartnership.org
SUMMARY:Ovenden Ward Forum Meeting
DESCRIPTION:Come along for local updates\, \n\n\n\nenjoy a mince pie and have your say on the things that matter to you in the Ovenden ward. \n\n\n\nContact Dan Marham\, Ward Link Worker\, for more info:Daniel.Marham@nhpltd.org.uk
URL:https://northhalifaxpartnership.org/event/ovenden-ward-forum-meeting/
LOCATION:OSCA Forest Cottage\, HX2 8AD
CATEGORIES:Community Events
ATTACH;FMTTYPE=image/png:https://northhalifaxpartnership.org/wp-content/uploads/2025/12/Copy-of-Ward-Forum-Meeting-Template-Facebook-Post.png
END:VEVENT
BEGIN:VEVENT
DTSTART;TZID=Europe/London:20251211T113000
DTEND;TZID=Europe/London:20251211T133000
DTSTAMP:20260424T142345
CREATED:20251010T120237Z
LAST-MODIFIED:20251103T122846Z
UID:10000410-1765452600-1765459800@northhalifaxpartnership.org
SUMMARY:Community Kitchen
DESCRIPTION:Community Kitchen \n\n\n\nEat\, Learn & ConnectCome along and enjoy: \n\n\n\n\nA delicious\, healthy free lunch\n\n\n\nFun health & wellbeing activities\n\n\n\nA chance to connect with others in your community\n\n\n\n\nEveryone welcome!No cost. No booking. Just turn up.Takeaway option available for the kids!
URL:https://northhalifaxpartnership.org/event/community-kitchen/2025-12-11/
LOCATION:Mixenden Activity Centre\, Clough Lane\, Mixenden\, HX2 8SH
CATEGORIES:Mixenden Activity Centre
ATTACH;FMTTYPE=image/webp:https://northhalifaxpartnership.org/wp-content/uploads/2025/10/Community-Kitchen.webp
END:VEVENT
BEGIN:VEVENT
DTSTART;TZID=Europe/London:20251211T110000
DTEND;TZID=Europe/London:20251211T130000
DTSTAMP:20260424T142345
CREATED:20251001T095238Z
LAST-MODIFIED:20251001T104300Z
UID:10000096-1765450800-1765458000@northhalifaxpartnership.org
SUMMARY:Craft & Connect at The MAC
DESCRIPTION:Craft group at Mixenden Activity Centre \n\n\n\n£2 per session \n\n\n\nContact Bernadette on 07901378786 for more information
URL:https://northhalifaxpartnership.org/event/craft-connect/2025-12-11/
LOCATION:Mixenden Activity Centre\, Clough Lane\, Mixenden\, HX2 8SH
CATEGORIES:Community Events,Mixenden Activity Centre
ATTACH;FMTTYPE=image/webp:https://northhalifaxpartnership.org/wp-content/uploads/2025/10/craft-and-connect_20250910_204702_0000.webp
END:VEVENT
BEGIN:VEVENT
DTSTART;TZID=Europe/London:20251210T154500
DTEND;TZID=Europe/London:20251210T171500
DTSTAMP:20260424T142345
CREATED:20251118T121038Z
LAST-MODIFIED:20251118T121115Z
UID:10002354-1765381500-1765386900@northhalifaxpartnership.org
SUMMARY:Christmas Event in Lower Valley
DESCRIPTION:Join us for the Lower Valley Christmas Event with:Live entertainmentFace paintingBiscuit decoratingCalendar making Making reindeer foodDedicated baby areaVisit from Santa Claus – £1 donation towards presents. \n\n\n\nIt is a free event best suited for children aged 8 years and under.
URL:https://northhalifaxpartnership.org/event/christmas-event-in-lower-valley/
LOCATION:Southgate Methodist Church\, Langdale Street\, Elland\, HX5 0JL
CATEGORIES:Christmas Events
ATTACH;FMTTYPE=image/png:https://northhalifaxpartnership.org/wp-content/uploads/2025/11/Chrismas-Event-LV.png
END:VEVENT
BEGIN:VEVENT
DTSTART;TZID=Europe/London:20251210T130000
DTEND;TZID=Europe/London:20251210T150000
DTSTAMP:20260424T142345
CREATED:20250923T144115Z
LAST-MODIFIED:20251001T105744Z
UID:10000359-1765371600-1765378800@northhalifaxpartnership.org
SUMMARY:Good Grief Café
DESCRIPTION:If you are going through the grieving process and would like to meet like minded people\, come down to Grove Court between 1-3pm for the Good Grief Café.
URL:https://northhalifaxpartnership.org/event/good-grief-cafe/2025-12-10/
LOCATION:Grove Court\, Ovenden\, Halifax\, HX3 5QR
CATEGORIES:Staying Well
ATTACH;FMTTYPE=image/png:https://northhalifaxpartnership.org/wp-content/uploads/2024/12/Grief-Cafe.png
END:VEVENT
BEGIN:VEVENT
DTSTART;TZID=Europe/London:20251210T100000
DTEND;TZID=Europe/London:20251210T120000
DTSTAMP:20260424T142345
CREATED:20251103T143531Z
LAST-MODIFIED:20251103T143534Z
UID:10001775-1765360800-1765368000@northhalifaxpartnership.org
SUMMARY:New Chapter\, New Me
DESCRIPTION:Have you been through your own cancer journey? \n\n\n\nWould you like to connect with others \n\n\n\nwho have had similar experiences? \n\n\n\nJoin our coffee morning for women who have been through their own cancer journey. Let’s come together to support each other and embrace your new version of yourself.
URL:https://northhalifaxpartnership.org/event/new-chapter-new-me/2025-12-10/
LOCATION:Illingworth Family Hub\, Occupation Lane\, Halifax\, HX2 9RL
CATEGORIES:Community Events,Health & Wellbeing,Staying Well
ATTACH;FMTTYPE=image/png:https://northhalifaxpartnership.org/wp-content/uploads/2025/11/New-Chapter-new-me-Facebook-Post.png
END:VEVENT
BEGIN:VEVENT
DTSTART;TZID=Europe/London:20251210T093000
DTEND;TZID=Europe/London:20251210T123000
DTSTAMP:20260424T142345
CREATED:20251001T093909Z
LAST-MODIFIED:20251001T105915Z
UID:10000372-1765359000-1765369800@northhalifaxpartnership.org
SUMMARY:Strengthening Families\, Strengthening Communities
DESCRIPTION:Are you struggling to manage your child’s behaviour? \n\n\n\nFed up of conflict at home? \n\n\n\nJoin our FREE course for parents and carers! \n\n\n\nIt’s a great chance to connect with others\, learn new skills\, and discover local community services. \n\n\n\nFacilitators: \n\n\n\nLeanne Patrice – Leanne.Patrice@nhpltd.org.uk \n\n\n\nTracy Cook – Tracy.Cook@nhpltd.org.uk
URL:https://northhalifaxpartnership.org/event/strengthening-families-strengthening-communities/2025-12-10/
LOCATION:Illingworth Family Hub\, Occupation Lane\, Halifax\, HX2 9RL
CATEGORIES:Family Support
ATTACH;FMTTYPE=image/webp:https://northhalifaxpartnership.org/wp-content/uploads/2025/10/Copy-of-Strengthening-Families-Strengthening-Communities-Facebook-Post.webp
END:VEVENT
BEGIN:VEVENT
DTSTART;TZID=Europe/London:20251210T093000
DTEND;TZID=Europe/London:20251210T113000
DTSTAMP:20260424T142345
CREATED:20251103T122432Z
LAST-MODIFIED:20251103T123139Z
UID:10000682-1765359000-1765366200@northhalifaxpartnership.org
SUMMARY:Dodgeholme Residential Meeting - Shine Within
DESCRIPTION:The residents group at Dodgeholme monthly meeting supported by NHP & Together Housing. \n\n\n\nPeople from the community are welcome to join the group.
URL:https://northhalifaxpartnership.org/event/dodgeholme-residential-meeting-shine-within-3/2025-12-10/
LOCATION:Mixenden Activity Centre\, Clough Lane\, Mixenden\, HX2 8SH
CATEGORIES:Community Events,Mixenden Activity Centre
ATTACH;FMTTYPE=image/jpeg:https://northhalifaxpartnership.org/wp-content/uploads/2025/09/dodgeholme.jpg
END:VEVENT
BEGIN:VEVENT
DTSTART;TZID=Europe/London:20251209T150000
DTEND;TZID=Europe/London:20251209T180000
DTSTAMP:20260424T142345
CREATED:20251103T132538Z
LAST-MODIFIED:20251103T132705Z
UID:10001229-1765292400-1765303200@northhalifaxpartnership.org
SUMMARY:Play Development Service
DESCRIPTION:They work on an open-access basis. \n\n\n\nChildren and young people are supervised\, but the parent or guardian is still responsible for them. \n\n\n\nYou are free to come and go as you please. \n\n\n\nThey offer a range of free play activities\, chosen by children and young people. \n\n\n\nThese can get messy\, so do please come in clothes that suit the activity and weather. \n\n\n\nContact them:\n\n\n\nPhone: \n\n\n\n07799 430175 or 07966 151413 (Play Leader) in case of an emergency. \n\n\n\n01422 380995 (Play Development Service) for more details or help.
URL:https://northhalifaxpartnership.org/event/play-development-service/2025-12-09/
LOCATION:Mixenden Activity Centre\, Clough Lane\, Mixenden\, HX2 8SH
CATEGORIES:Community Events,Family Support,Health & Wellbeing,Mixenden Activity Centre
ATTACH;FMTTYPE=image/jpeg:https://northhalifaxpartnership.org/wp-content/uploads/2025/11/Play-development-service-banner.jpg
END:VEVENT
BEGIN:VEVENT
DTSTART;TZID=Europe/London:20251209T091500
DTEND;TZID=Europe/London:20251209T104500
DTSTAMP:20260424T142345
CREATED:20251107T130337Z
LAST-MODIFIED:20251107T130340Z
UID:10002044-1765271700-1765277100@northhalifaxpartnership.org
SUMMARY:Baby and Toddler Group
DESCRIPTION:Baby & Toddler Group \n\n\n\nUp to 4 years old \n\n\n\nTerm time only \n\n\n\nNo booking required \n\n\n\nFirst session free then £1.60 per family
URL:https://northhalifaxpartnership.org/event/baby-and-toddler-group/2025-12-09/
LOCATION:Creations Family Hub\, Albert Road\, HX2 0QD
CATEGORIES:Baby & Toddler Groups
ATTACH;FMTTYPE=image/png:https://northhalifaxpartnership.org/wp-content/uploads/2025/11/Wall-Planner-CENTRAL-AW-25.png
END:VEVENT
BEGIN:VEVENT
DTSTART;TZID=Europe/London:20251208T100000
DTEND;TZID=Europe/London:20251208T113000
DTSTAMP:20260424T142345
CREATED:20251001T113349Z
LAST-MODIFIED:20251001T113354Z
UID:10000074-1765188000-1765193400@northhalifaxpartnership.org
SUMMARY:Singing Mamas
DESCRIPTION:Singing Mamas is back on Monday the 22nd of September with 11 x FREE weekly sessions at MAC between 10-11.30am. \n\n\n\nThis group is for mamas\, grandmas\, aunties\, female carers and their little ones. In fact all women are welcome with or without children. \n\n\n\nWe will be singing simple\, easy to learn and uplifting songs from around the world to lift your mood\, reduce stress and put a spring in your step. \n\n\n\nNo musical ability required. \n\n\n\nWe will make time for a chat over a brew at the end of the session with a home-baked cookie and snacks and drinks for the children. \n\n\n\nFree parking on site\, toys and play mat for children provided\, no upper age limit for little ones\, all snacks and drinks are free. \n\n\n\nEmail josie@singingmamas.org to book your place or message 07734058453 for more information.
URL:https://northhalifaxpartnership.org/event/singing-mamas/2025-12-08/
LOCATION:Mixenden Activity Centre\, Clough Lane\, Mixenden\, HX2 8SH
CATEGORIES:Health & Wellbeing,Mixenden Activity Centre
ATTACH;FMTTYPE=image/png:https://northhalifaxpartnership.org/wp-content/uploads/2025/09/Mixenden-Flyer-Side-1-1-New.png
END:VEVENT
BEGIN:VEVENT
DTSTART;TZID=Europe/London:20251208T080000
DTEND;TZID=Europe/London:20251208T170000
DTSTAMP:20260424T142345
CREATED:20251001T110732Z
LAST-MODIFIED:20251001T110736Z
UID:10000385-1765180800-1765213200@northhalifaxpartnership.org
SUMMARY:Free 12-Week Gentle Exercise Course
DESCRIPTION:A new 12-week Gentle Exercise programme is launching at Mixenden Activity Centre (MAC) this September. This free course is open to anyone living with cancer or other long-term health conditions and offers a welcoming\, supportive space to improve wellbeing through gentle movement and connection. \n\n\n\nWhat’s included: \n\n\n\n\nGentle armchair-based exercises\n\n\n\nRelaxation\, reflection and talktime\n\n\n\nGames and a weekly raffle\n\n\n\n\nSessions are led by Lauren\, a Level 4 exercise instructor with specialist training in cancer pre/rehab and cardiac rehabilitation. Lisa\, a Cancer Support and Staying Well worker\, will also be on hand to offer emotional support and signposting to other services. \n\n\n\nCourse details: \n\n\n\n\nEvery Monday – Starts 15th September\n\n\n\nTime: 10.00am – 11.30am\n\n\n\nVenue: Mixenden Activity Centre (MAC)\, Clough Lane\, Mixenden\, HX2 8SH\n\n\n\nFree to attend (donations welcome)\n\n\n\n\nTo find out more or book your place\, please contact Lauren on 07956 940 829. \n\n\n\nThis course is supported by Macmillan Cancer Support\, West Yorkshire and Harrogate Cancer Alliance\, and Staying Well.
URL:https://northhalifaxpartnership.org/event/free-12-week-gentle-exercise-course/2025-12-08/
LOCATION:Mixenden Activity Centre\, Clough Lane\, Mixenden\, HX2 8SH
CATEGORIES:Mixenden Activity Centre,Staying Well
ATTACH;FMTTYPE=image/webp:https://northhalifaxpartnership.org/wp-content/uploads/2025/10/Gentle-Parenting.webp
END:VEVENT
BEGIN:VEVENT
DTSTART;TZID=Europe/London:20251206T100000
DTEND;TZID=Europe/London:20251206T233000
DTSTAMP:20260424T142345
CREATED:20251110T075900Z
LAST-MODIFIED:20251110T080128Z
UID:10002351-1765015200-1765063800@northhalifaxpartnership.org
SUMMARY:Dads / Male Carers Breakfast with Santa
DESCRIPTION:Come along to have breakfast with Santa. Each child will receive a present. \n\n\n\nContact 01484 262051 to book.
URL:https://northhalifaxpartnership.org/event/dads-male-carers-breakfast-with-santa/
LOCATION:Wellholme Park Family Hub\, Bradford Road\, Town Centre\, Brighouse\, HD6 4AF
CATEGORIES:Christmas Events,Dads Events
ATTACH;FMTTYPE=image/png:https://northhalifaxpartnership.org/wp-content/uploads/2025/11/DadsMale-Carers-Christmas-Party-1.png
END:VEVENT
BEGIN:VEVENT
DTSTART;TZID=Europe/London:20251206T100000
DTEND;TZID=Europe/London:20251206T120000
DTSTAMP:20260424T142345
CREATED:20251117T071310Z
LAST-MODIFIED:20251117T071312Z
UID:10002353-1765015200-1765022400@northhalifaxpartnership.org
SUMMARY:Christmas Party
DESCRIPTION:Join us for face painting\, a tombola\, donkey rides\, letters to Santa\, a hot chocolate and snacks station\, reindeer food\, and a visit from Santa. \n\n\n\nFree entry\, some activities carry a small cost. \n\n\n\nNo booking necessary. \n\n\n\nFor more information please call 01422 252209
URL:https://northhalifaxpartnership.org/event/christmas-party/
LOCATION:Kevin Pearce Family Hub and Nursery\, Ovenden Road\, Hx3 5RQ
CATEGORIES:Christmas Events,Community Events
ATTACH;FMTTYPE=image/png:https://northhalifaxpartnership.org/wp-content/uploads/2025/11/Christmas-Party-Facebook-Post.png
END:VEVENT
BEGIN:VEVENT
DTSTART;TZID=Europe/London:20251206T100000
DTEND;TZID=Europe/London:20251206T113000
DTSTAMP:20260424T142345
CREATED:20250923T153121Z
LAST-MODIFIED:20251001T103246Z
UID:10000019-1765015200-1765020600@northhalifaxpartnership.org
SUMMARY:Shining Stars
DESCRIPTION:Support group for children with SEND under the age of 5 and their families \n\n\n\nFirst Saturday of every month \n\n\n\nCall 01484 714768 to book. \n\n\n\nFree to attend. \n\n\n\nSaturday 4th October – Elland Family HubSaturday 1st November – Wellholme Park Family HubSaturday 6th December – Elland Family Hub
URL:https://northhalifaxpartnership.org/event/shining-stars-3/2025-12-06/
LOCATION:Elland Family Hub and Nursery\, Boxhall Road\, Elland\, HX5 0BB
CATEGORIES:Special Educational Needs and Disabilities (SEND)
ATTACH;FMTTYPE=image/png:https://northhalifaxpartnership.org/wp-content/uploads/2025/02/send-support-1.png
END:VEVENT
BEGIN:VEVENT
DTSTART;TZID=Europe/London:20251205T190000
DTEND;TZID=Europe/London:20251205T210000
DTSTAMP:20260424T142345
CREATED:20251103T131428Z
LAST-MODIFIED:20251103T131432Z
UID:10001222-1764961200-1764968400@northhalifaxpartnership.org
SUMMARY:Bingo
DESCRIPTION:Bingo nights will be a time for adults to come together\, grab a brew (or 2!) & have some fun. We’re sure there’ll be belly laughs all round! \n\n\n\nWe’ll be getting our eyes down at 7-9pm…make sure you pop it in the diary so you don’t miss out! \n\n\n\nThe sessions will run every 2 weeks.  \n\n\n\nNeed any further info? Email: Carly.mullaney@nhpltd.org.uk or call/message 07305050385 \n\n\n\nWe look forward to seeing you all for banter & proper community vibes!
URL:https://northhalifaxpartnership.org/event/bingo/2025-12-05/
CATEGORIES:Community Events,Mixenden Activity Centre
END:VEVENT
BEGIN:VEVENT
DTSTART;TZID=Europe/London:20251205T090000
DTEND;TZID=Europe/London:20251205T113000
DTSTAMP:20260424T142345
CREATED:20251103T133310Z
LAST-MODIFIED:20251103T133314Z
UID:10001746-1764925200-1764934200@northhalifaxpartnership.org
SUMMARY:Open Arms Hub
DESCRIPTION:OPEN ARMS HUB “No Labels. Just Support.” \n\n\n\nA safe\, welcoming space for Mixenden’s SEND families — diagnosis or not\, everyone’s welcome. \n\n\n\nDrop in for a brew and a chat\, connect with other local parents and carers\, get support around mental health and well-being. \n\n\n\nRun by Mandy & Katie — SEND mums\, carers\, and community champions No pressure. No judgment. Just open arms. \n\n\n\nContact them: info.openarmshub@gmail.com\, 07455 888 207
URL:https://northhalifaxpartnership.org/event/open-arms-hub-2/2025-12-05/
LOCATION:Mixenden Activity Centre\, Clough Lane\, Mixenden\, HX2 8SH
CATEGORIES:Mixenden Activity Centre,Special Educational Needs and Disabilities (SEND)
ATTACH;FMTTYPE=image/webp:https://northhalifaxpartnership.org/wp-content/uploads/2025/10/open-arms-hub-e1757514626475.webp
END:VEVENT
BEGIN:VEVENT
DTSTART;TZID=Europe/London:20251204T183000
DTEND;TZID=Europe/London:20251204T193000
DTSTAMP:20260424T142345
CREATED:20251103T130117Z
LAST-MODIFIED:20251103T130120Z
UID:10000962-1764873000-1764876600@northhalifaxpartnership.org
SUMMARY:Zumba
DESCRIPTION:Mandy is doing Zumba in the MAC! \n\n\n\nOpen to everyone\, just turn up\, no need to book. \n\n\n\n£4 per session.
URL:https://northhalifaxpartnership.org/event/zumba/2025-12-04/
CATEGORIES:Health & Wellbeing,Mixenden Activity Centre
ATTACH;FMTTYPE=image/webp:https://northhalifaxpartnership.org/wp-content/uploads/2025/10/zumba.webp
END:VEVENT
END:VCALENDAR