BEGIN:VCALENDAR
VERSION:2.0
PRODID:-//North Halifax Partnership - ECPv6.15.20//NONSGML v1.0//EN
CALSCALE:GREGORIAN
METHOD:PUBLISH
X-WR-CALNAME:North Halifax Partnership
X-ORIGINAL-URL:https://northhalifaxpartnership.org
X-WR-CALDESC:Events for North Halifax Partnership
REFRESH-INTERVAL;VALUE=DURATION:PT1H
X-Robots-Tag:noindex
X-PUBLISHED-TTL:PT1H
BEGIN:VTIMEZONE
TZID:Europe/London
BEGIN:DAYLIGHT
TZOFFSETFROM:+0000
TZOFFSETTO:+0100
TZNAME:BST
DTSTART:20250330T010000
END:DAYLIGHT
BEGIN:STANDARD
TZOFFSETFROM:+0100
TZOFFSETTO:+0000
TZNAME:GMT
DTSTART:20251026T010000
END:STANDARD
BEGIN:DAYLIGHT
TZOFFSETFROM:+0000
TZOFFSETTO:+0100
TZNAME:BST
DTSTART:20260329T010000
END:DAYLIGHT
BEGIN:STANDARD
TZOFFSETFROM:+0100
TZOFFSETTO:+0000
TZNAME:GMT
DTSTART:20261025T010000
END:STANDARD
BEGIN:DAYLIGHT
TZOFFSETFROM:+0000
TZOFFSETTO:+0100
TZNAME:BST
DTSTART:20270328T010000
END:DAYLIGHT
BEGIN:STANDARD
TZOFFSETFROM:+0100
TZOFFSETTO:+0000
TZNAME:GMT
DTSTART:20271031T010000
END:STANDARD
END:VTIMEZONE
BEGIN:VEVENT
DTSTART;TZID=Europe/London:20260527T100000
DTEND;TZID=Europe/London:20260527T120000
DTSTAMP:20260420T100656
CREATED:20251103T143531Z
LAST-MODIFIED:20251103T143534Z
UID:10001799-1779876000-1779883200@northhalifaxpartnership.org
SUMMARY:New Chapter\, New Me
DESCRIPTION:Have you been through your own cancer journey? \n\n\n\nWould you like to connect with others \n\n\n\nwho have had similar experiences? \n\n\n\nJoin our coffee morning for women who have been through their own cancer journey. Let’s come together to support each other and embrace your new version of yourself.
URL:https://northhalifaxpartnership.org/event/new-chapter-new-me/2026-05-27/
LOCATION:Illingworth Family Hub\, Occupation Lane\, Halifax\, HX2 9RL
CATEGORIES:Community Events,Health & Wellbeing,Staying Well
ATTACH;FMTTYPE=image/png:https://northhalifaxpartnership.org/wp-content/uploads/2025/11/New-Chapter-new-me-Facebook-Post.png
END:VEVENT
BEGIN:VEVENT
DTSTART;TZID=Europe/London:20260528T183000
DTEND;TZID=Europe/London:20260528T193000
DTSTAMP:20260420T100656
CREATED:20251103T130117Z
LAST-MODIFIED:20251103T130120Z
UID:10000987-1779993000-1779996600@northhalifaxpartnership.org
SUMMARY:Zumba
DESCRIPTION:Mandy is doing Zumba in the MAC! \n\n\n\nOpen to everyone\, just turn up\, no need to book. \n\n\n\n£4 per session.
URL:https://northhalifaxpartnership.org/event/zumba/2026-05-28/
CATEGORIES:Health & Wellbeing,Mixenden Activity Centre
ATTACH;FMTTYPE=image/webp:https://northhalifaxpartnership.org/wp-content/uploads/2025/10/zumba.webp
END:VEVENT
BEGIN:VEVENT
DTSTART;TZID=Europe/London:20260602T150000
DTEND;TZID=Europe/London:20260602T180000
DTSTAMP:20260420T100656
CREATED:20251103T132538Z
LAST-MODIFIED:20251103T132705Z
UID:10001254-1780412400-1780423200@northhalifaxpartnership.org
SUMMARY:Play Development Service
DESCRIPTION:They work on an open-access basis. \n\n\n\nChildren and young people are supervised\, but the parent or guardian is still responsible for them. \n\n\n\nYou are free to come and go as you please. \n\n\n\nThey offer a range of free play activities\, chosen by children and young people. \n\n\n\nThese can get messy\, so do please come in clothes that suit the activity and weather. \n\n\n\nContact them:\n\n\n\nPhone: \n\n\n\n07799 430175 or 07966 151413 (Play Leader) in case of an emergency. \n\n\n\n01422 380995 (Play Development Service) for more details or help.
URL:https://northhalifaxpartnership.org/event/play-development-service/2026-06-02/
LOCATION:Mixenden Activity Centre\, Clough Lane\, Mixenden\, HX2 8SH
CATEGORIES:Community Events,Family Support,Health & Wellbeing,Mixenden Activity Centre
ATTACH;FMTTYPE=image/jpeg:https://northhalifaxpartnership.org/wp-content/uploads/2025/11/Play-development-service-banner.jpg
END:VEVENT
BEGIN:VEVENT
DTSTART;TZID=Europe/London:20260603T100000
DTEND;TZID=Europe/London:20260603T120000
DTSTAMP:20260420T100656
CREATED:20251103T143531Z
LAST-MODIFIED:20251103T143534Z
UID:10001800-1780480800-1780488000@northhalifaxpartnership.org
SUMMARY:New Chapter\, New Me
DESCRIPTION:Have you been through your own cancer journey? \n\n\n\nWould you like to connect with others \n\n\n\nwho have had similar experiences? \n\n\n\nJoin our coffee morning for women who have been through their own cancer journey. Let’s come together to support each other and embrace your new version of yourself.
URL:https://northhalifaxpartnership.org/event/new-chapter-new-me/2026-06-03/
LOCATION:Illingworth Family Hub\, Occupation Lane\, Halifax\, HX2 9RL
CATEGORIES:Community Events,Health & Wellbeing,Staying Well
ATTACH;FMTTYPE=image/png:https://northhalifaxpartnership.org/wp-content/uploads/2025/11/New-Chapter-new-me-Facebook-Post.png
END:VEVENT
BEGIN:VEVENT
DTSTART;TZID=Europe/London:20260604T183000
DTEND;TZID=Europe/London:20260604T193000
DTSTAMP:20260420T100656
CREATED:20251103T130117Z
LAST-MODIFIED:20251103T130120Z
UID:10000988-1780597800-1780601400@northhalifaxpartnership.org
SUMMARY:Zumba
DESCRIPTION:Mandy is doing Zumba in the MAC! \n\n\n\nOpen to everyone\, just turn up\, no need to book. \n\n\n\n£4 per session.
URL:https://northhalifaxpartnership.org/event/zumba/2026-06-04/
CATEGORIES:Health & Wellbeing,Mixenden Activity Centre
ATTACH;FMTTYPE=image/webp:https://northhalifaxpartnership.org/wp-content/uploads/2025/10/zumba.webp
END:VEVENT
BEGIN:VEVENT
DTSTART;TZID=Europe/London:20260609T150000
DTEND;TZID=Europe/London:20260609T180000
DTSTAMP:20260420T100656
CREATED:20251103T132538Z
LAST-MODIFIED:20251103T132705Z
UID:10001255-1781017200-1781028000@northhalifaxpartnership.org
SUMMARY:Play Development Service
DESCRIPTION:They work on an open-access basis. \n\n\n\nChildren and young people are supervised\, but the parent or guardian is still responsible for them. \n\n\n\nYou are free to come and go as you please. \n\n\n\nThey offer a range of free play activities\, chosen by children and young people. \n\n\n\nThese can get messy\, so do please come in clothes that suit the activity and weather. \n\n\n\nContact them:\n\n\n\nPhone: \n\n\n\n07799 430175 or 07966 151413 (Play Leader) in case of an emergency. \n\n\n\n01422 380995 (Play Development Service) for more details or help.
URL:https://northhalifaxpartnership.org/event/play-development-service/2026-06-09/
LOCATION:Mixenden Activity Centre\, Clough Lane\, Mixenden\, HX2 8SH
CATEGORIES:Community Events,Family Support,Health & Wellbeing,Mixenden Activity Centre
ATTACH;FMTTYPE=image/jpeg:https://northhalifaxpartnership.org/wp-content/uploads/2025/11/Play-development-service-banner.jpg
END:VEVENT
BEGIN:VEVENT
DTSTART;TZID=Europe/London:20260610T100000
DTEND;TZID=Europe/London:20260610T120000
DTSTAMP:20260420T100656
CREATED:20251103T143531Z
LAST-MODIFIED:20251103T143534Z
UID:10001801-1781085600-1781092800@northhalifaxpartnership.org
SUMMARY:New Chapter\, New Me
DESCRIPTION:Have you been through your own cancer journey? \n\n\n\nWould you like to connect with others \n\n\n\nwho have had similar experiences? \n\n\n\nJoin our coffee morning for women who have been through their own cancer journey. Let’s come together to support each other and embrace your new version of yourself.
URL:https://northhalifaxpartnership.org/event/new-chapter-new-me/2026-06-10/
LOCATION:Illingworth Family Hub\, Occupation Lane\, Halifax\, HX2 9RL
CATEGORIES:Community Events,Health & Wellbeing,Staying Well
ATTACH;FMTTYPE=image/png:https://northhalifaxpartnership.org/wp-content/uploads/2025/11/New-Chapter-new-me-Facebook-Post.png
END:VEVENT
BEGIN:VEVENT
DTSTART;TZID=Europe/London:20260611T183000
DTEND;TZID=Europe/London:20260611T193000
DTSTAMP:20260420T100656
CREATED:20251103T130117Z
LAST-MODIFIED:20251103T130120Z
UID:10000989-1781202600-1781206200@northhalifaxpartnership.org
SUMMARY:Zumba
DESCRIPTION:Mandy is doing Zumba in the MAC! \n\n\n\nOpen to everyone\, just turn up\, no need to book. \n\n\n\n£4 per session.
URL:https://northhalifaxpartnership.org/event/zumba/2026-06-11/
CATEGORIES:Health & Wellbeing,Mixenden Activity Centre
ATTACH;FMTTYPE=image/webp:https://northhalifaxpartnership.org/wp-content/uploads/2025/10/zumba.webp
END:VEVENT
BEGIN:VEVENT
DTSTART;TZID=Europe/London:20260616T150000
DTEND;TZID=Europe/London:20260616T180000
DTSTAMP:20260420T100656
CREATED:20251103T132538Z
LAST-MODIFIED:20251103T132705Z
UID:10001256-1781622000-1781632800@northhalifaxpartnership.org
SUMMARY:Play Development Service
DESCRIPTION:They work on an open-access basis. \n\n\n\nChildren and young people are supervised\, but the parent or guardian is still responsible for them. \n\n\n\nYou are free to come and go as you please. \n\n\n\nThey offer a range of free play activities\, chosen by children and young people. \n\n\n\nThese can get messy\, so do please come in clothes that suit the activity and weather. \n\n\n\nContact them:\n\n\n\nPhone: \n\n\n\n07799 430175 or 07966 151413 (Play Leader) in case of an emergency. \n\n\n\n01422 380995 (Play Development Service) for more details or help.
URL:https://northhalifaxpartnership.org/event/play-development-service/2026-06-16/
LOCATION:Mixenden Activity Centre\, Clough Lane\, Mixenden\, HX2 8SH
CATEGORIES:Community Events,Family Support,Health & Wellbeing,Mixenden Activity Centre
ATTACH;FMTTYPE=image/jpeg:https://northhalifaxpartnership.org/wp-content/uploads/2025/11/Play-development-service-banner.jpg
END:VEVENT
BEGIN:VEVENT
DTSTART;TZID=Europe/London:20260617T100000
DTEND;TZID=Europe/London:20260617T120000
DTSTAMP:20260420T100656
CREATED:20251103T143531Z
LAST-MODIFIED:20251103T143534Z
UID:10001802-1781690400-1781697600@northhalifaxpartnership.org
SUMMARY:New Chapter\, New Me
DESCRIPTION:Have you been through your own cancer journey? \n\n\n\nWould you like to connect with others \n\n\n\nwho have had similar experiences? \n\n\n\nJoin our coffee morning for women who have been through their own cancer journey. Let’s come together to support each other and embrace your new version of yourself.
URL:https://northhalifaxpartnership.org/event/new-chapter-new-me/2026-06-17/
LOCATION:Illingworth Family Hub\, Occupation Lane\, Halifax\, HX2 9RL
CATEGORIES:Community Events,Health & Wellbeing,Staying Well
ATTACH;FMTTYPE=image/png:https://northhalifaxpartnership.org/wp-content/uploads/2025/11/New-Chapter-new-me-Facebook-Post.png
END:VEVENT
BEGIN:VEVENT
DTSTART;TZID=Europe/London:20260618T183000
DTEND;TZID=Europe/London:20260618T193000
DTSTAMP:20260420T100656
CREATED:20251103T130117Z
LAST-MODIFIED:20251103T130120Z
UID:10000990-1781807400-1781811000@northhalifaxpartnership.org
SUMMARY:Zumba
DESCRIPTION:Mandy is doing Zumba in the MAC! \n\n\n\nOpen to everyone\, just turn up\, no need to book. \n\n\n\n£4 per session.
URL:https://northhalifaxpartnership.org/event/zumba/2026-06-18/
CATEGORIES:Health & Wellbeing,Mixenden Activity Centre
ATTACH;FMTTYPE=image/webp:https://northhalifaxpartnership.org/wp-content/uploads/2025/10/zumba.webp
END:VEVENT
BEGIN:VEVENT
DTSTART;TZID=Europe/London:20260623T150000
DTEND;TZID=Europe/London:20260623T180000
DTSTAMP:20260420T100656
CREATED:20251103T132538Z
LAST-MODIFIED:20251103T132705Z
UID:10001257-1782226800-1782237600@northhalifaxpartnership.org
SUMMARY:Play Development Service
DESCRIPTION:They work on an open-access basis. \n\n\n\nChildren and young people are supervised\, but the parent or guardian is still responsible for them. \n\n\n\nYou are free to come and go as you please. \n\n\n\nThey offer a range of free play activities\, chosen by children and young people. \n\n\n\nThese can get messy\, so do please come in clothes that suit the activity and weather. \n\n\n\nContact them:\n\n\n\nPhone: \n\n\n\n07799 430175 or 07966 151413 (Play Leader) in case of an emergency. \n\n\n\n01422 380995 (Play Development Service) for more details or help.
URL:https://northhalifaxpartnership.org/event/play-development-service/2026-06-23/
LOCATION:Mixenden Activity Centre\, Clough Lane\, Mixenden\, HX2 8SH
CATEGORIES:Community Events,Family Support,Health & Wellbeing,Mixenden Activity Centre
ATTACH;FMTTYPE=image/jpeg:https://northhalifaxpartnership.org/wp-content/uploads/2025/11/Play-development-service-banner.jpg
END:VEVENT
BEGIN:VEVENT
DTSTART;TZID=Europe/London:20260624T100000
DTEND;TZID=Europe/London:20260624T120000
DTSTAMP:20260420T100656
CREATED:20251103T143531Z
LAST-MODIFIED:20251103T143534Z
UID:10001803-1782295200-1782302400@northhalifaxpartnership.org
SUMMARY:New Chapter\, New Me
DESCRIPTION:Have you been through your own cancer journey? \n\n\n\nWould you like to connect with others \n\n\n\nwho have had similar experiences? \n\n\n\nJoin our coffee morning for women who have been through their own cancer journey. Let’s come together to support each other and embrace your new version of yourself.
URL:https://northhalifaxpartnership.org/event/new-chapter-new-me/2026-06-24/
LOCATION:Illingworth Family Hub\, Occupation Lane\, Halifax\, HX2 9RL
CATEGORIES:Community Events,Health & Wellbeing,Staying Well
ATTACH;FMTTYPE=image/png:https://northhalifaxpartnership.org/wp-content/uploads/2025/11/New-Chapter-new-me-Facebook-Post.png
END:VEVENT
BEGIN:VEVENT
DTSTART;TZID=Europe/London:20260625T183000
DTEND;TZID=Europe/London:20260625T193000
DTSTAMP:20260420T100656
CREATED:20251103T130117Z
LAST-MODIFIED:20251103T130120Z
UID:10000991-1782412200-1782415800@northhalifaxpartnership.org
SUMMARY:Zumba
DESCRIPTION:Mandy is doing Zumba in the MAC! \n\n\n\nOpen to everyone\, just turn up\, no need to book. \n\n\n\n£4 per session.
URL:https://northhalifaxpartnership.org/event/zumba/2026-06-25/
CATEGORIES:Health & Wellbeing,Mixenden Activity Centre
ATTACH;FMTTYPE=image/webp:https://northhalifaxpartnership.org/wp-content/uploads/2025/10/zumba.webp
END:VEVENT
BEGIN:VEVENT
DTSTART;TZID=Europe/London:20260630T150000
DTEND;TZID=Europe/London:20260630T180000
DTSTAMP:20260420T100656
CREATED:20251103T132538Z
LAST-MODIFIED:20251103T132705Z
UID:10001258-1782831600-1782842400@northhalifaxpartnership.org
SUMMARY:Play Development Service
DESCRIPTION:They work on an open-access basis. \n\n\n\nChildren and young people are supervised\, but the parent or guardian is still responsible for them. \n\n\n\nYou are free to come and go as you please. \n\n\n\nThey offer a range of free play activities\, chosen by children and young people. \n\n\n\nThese can get messy\, so do please come in clothes that suit the activity and weather. \n\n\n\nContact them:\n\n\n\nPhone: \n\n\n\n07799 430175 or 07966 151413 (Play Leader) in case of an emergency. \n\n\n\n01422 380995 (Play Development Service) for more details or help.
URL:https://northhalifaxpartnership.org/event/play-development-service/2026-06-30/
LOCATION:Mixenden Activity Centre\, Clough Lane\, Mixenden\, HX2 8SH
CATEGORIES:Community Events,Family Support,Health & Wellbeing,Mixenden Activity Centre
ATTACH;FMTTYPE=image/jpeg:https://northhalifaxpartnership.org/wp-content/uploads/2025/11/Play-development-service-banner.jpg
END:VEVENT
BEGIN:VEVENT
DTSTART;TZID=Europe/London:20260701T100000
DTEND;TZID=Europe/London:20260701T120000
DTSTAMP:20260420T100656
CREATED:20251103T143531Z
LAST-MODIFIED:20251103T143534Z
UID:10001804-1782900000-1782907200@northhalifaxpartnership.org
SUMMARY:New Chapter\, New Me
DESCRIPTION:Have you been through your own cancer journey? \n\n\n\nWould you like to connect with others \n\n\n\nwho have had similar experiences? \n\n\n\nJoin our coffee morning for women who have been through their own cancer journey. Let’s come together to support each other and embrace your new version of yourself.
URL:https://northhalifaxpartnership.org/event/new-chapter-new-me/2026-07-01/
LOCATION:Illingworth Family Hub\, Occupation Lane\, Halifax\, HX2 9RL
CATEGORIES:Community Events,Health & Wellbeing,Staying Well
ATTACH;FMTTYPE=image/png:https://northhalifaxpartnership.org/wp-content/uploads/2025/11/New-Chapter-new-me-Facebook-Post.png
END:VEVENT
BEGIN:VEVENT
DTSTART;TZID=Europe/London:20260702T183000
DTEND;TZID=Europe/London:20260702T193000
DTSTAMP:20260420T100656
CREATED:20251103T130117Z
LAST-MODIFIED:20251103T130120Z
UID:10000992-1783017000-1783020600@northhalifaxpartnership.org
SUMMARY:Zumba
DESCRIPTION:Mandy is doing Zumba in the MAC! \n\n\n\nOpen to everyone\, just turn up\, no need to book. \n\n\n\n£4 per session.
URL:https://northhalifaxpartnership.org/event/zumba/2026-07-02/
CATEGORIES:Health & Wellbeing,Mixenden Activity Centre
ATTACH;FMTTYPE=image/webp:https://northhalifaxpartnership.org/wp-content/uploads/2025/10/zumba.webp
END:VEVENT
BEGIN:VEVENT
DTSTART;TZID=Europe/London:20260707T150000
DTEND;TZID=Europe/London:20260707T180000
DTSTAMP:20260420T100656
CREATED:20251103T132538Z
LAST-MODIFIED:20251103T132705Z
UID:10001259-1783436400-1783447200@northhalifaxpartnership.org
SUMMARY:Play Development Service
DESCRIPTION:They work on an open-access basis. \n\n\n\nChildren and young people are supervised\, but the parent or guardian is still responsible for them. \n\n\n\nYou are free to come and go as you please. \n\n\n\nThey offer a range of free play activities\, chosen by children and young people. \n\n\n\nThese can get messy\, so do please come in clothes that suit the activity and weather. \n\n\n\nContact them:\n\n\n\nPhone: \n\n\n\n07799 430175 or 07966 151413 (Play Leader) in case of an emergency. \n\n\n\n01422 380995 (Play Development Service) for more details or help.
URL:https://northhalifaxpartnership.org/event/play-development-service/2026-07-07/
LOCATION:Mixenden Activity Centre\, Clough Lane\, Mixenden\, HX2 8SH
CATEGORIES:Community Events,Family Support,Health & Wellbeing,Mixenden Activity Centre
ATTACH;FMTTYPE=image/jpeg:https://northhalifaxpartnership.org/wp-content/uploads/2025/11/Play-development-service-banner.jpg
END:VEVENT
BEGIN:VEVENT
DTSTART;TZID=Europe/London:20260708T100000
DTEND;TZID=Europe/London:20260708T120000
DTSTAMP:20260420T100656
CREATED:20251103T143531Z
LAST-MODIFIED:20251103T143534Z
UID:10001805-1783504800-1783512000@northhalifaxpartnership.org
SUMMARY:New Chapter\, New Me
DESCRIPTION:Have you been through your own cancer journey? \n\n\n\nWould you like to connect with others \n\n\n\nwho have had similar experiences? \n\n\n\nJoin our coffee morning for women who have been through their own cancer journey. Let’s come together to support each other and embrace your new version of yourself.
URL:https://northhalifaxpartnership.org/event/new-chapter-new-me/2026-07-08/
LOCATION:Illingworth Family Hub\, Occupation Lane\, Halifax\, HX2 9RL
CATEGORIES:Community Events,Health & Wellbeing,Staying Well
ATTACH;FMTTYPE=image/png:https://northhalifaxpartnership.org/wp-content/uploads/2025/11/New-Chapter-new-me-Facebook-Post.png
END:VEVENT
BEGIN:VEVENT
DTSTART;TZID=Europe/London:20260709T183000
DTEND;TZID=Europe/London:20260709T193000
DTSTAMP:20260420T100656
CREATED:20251103T130117Z
LAST-MODIFIED:20251103T130120Z
UID:10000993-1783621800-1783625400@northhalifaxpartnership.org
SUMMARY:Zumba
DESCRIPTION:Mandy is doing Zumba in the MAC! \n\n\n\nOpen to everyone\, just turn up\, no need to book. \n\n\n\n£4 per session.
URL:https://northhalifaxpartnership.org/event/zumba/2026-07-09/
CATEGORIES:Health & Wellbeing,Mixenden Activity Centre
ATTACH;FMTTYPE=image/webp:https://northhalifaxpartnership.org/wp-content/uploads/2025/10/zumba.webp
END:VEVENT
BEGIN:VEVENT
DTSTART;TZID=Europe/London:20260714T150000
DTEND;TZID=Europe/London:20260714T180000
DTSTAMP:20260420T100656
CREATED:20251103T132538Z
LAST-MODIFIED:20251103T132705Z
UID:10001260-1784041200-1784052000@northhalifaxpartnership.org
SUMMARY:Play Development Service
DESCRIPTION:They work on an open-access basis. \n\n\n\nChildren and young people are supervised\, but the parent or guardian is still responsible for them. \n\n\n\nYou are free to come and go as you please. \n\n\n\nThey offer a range of free play activities\, chosen by children and young people. \n\n\n\nThese can get messy\, so do please come in clothes that suit the activity and weather. \n\n\n\nContact them:\n\n\n\nPhone: \n\n\n\n07799 430175 or 07966 151413 (Play Leader) in case of an emergency. \n\n\n\n01422 380995 (Play Development Service) for more details or help.
URL:https://northhalifaxpartnership.org/event/play-development-service/2026-07-14/
LOCATION:Mixenden Activity Centre\, Clough Lane\, Mixenden\, HX2 8SH
CATEGORIES:Community Events,Family Support,Health & Wellbeing,Mixenden Activity Centre
ATTACH;FMTTYPE=image/jpeg:https://northhalifaxpartnership.org/wp-content/uploads/2025/11/Play-development-service-banner.jpg
END:VEVENT
BEGIN:VEVENT
DTSTART;TZID=Europe/London:20260715T100000
DTEND;TZID=Europe/London:20260715T120000
DTSTAMP:20260420T100656
CREATED:20251103T143531Z
LAST-MODIFIED:20251103T143534Z
UID:10001806-1784109600-1784116800@northhalifaxpartnership.org
SUMMARY:New Chapter\, New Me
DESCRIPTION:Have you been through your own cancer journey? \n\n\n\nWould you like to connect with others \n\n\n\nwho have had similar experiences? \n\n\n\nJoin our coffee morning for women who have been through their own cancer journey. Let’s come together to support each other and embrace your new version of yourself.
URL:https://northhalifaxpartnership.org/event/new-chapter-new-me/2026-07-15/
LOCATION:Illingworth Family Hub\, Occupation Lane\, Halifax\, HX2 9RL
CATEGORIES:Community Events,Health & Wellbeing,Staying Well
ATTACH;FMTTYPE=image/png:https://northhalifaxpartnership.org/wp-content/uploads/2025/11/New-Chapter-new-me-Facebook-Post.png
END:VEVENT
BEGIN:VEVENT
DTSTART;TZID=Europe/London:20260716T183000
DTEND;TZID=Europe/London:20260716T193000
DTSTAMP:20260420T100656
CREATED:20251103T130117Z
LAST-MODIFIED:20251103T130120Z
UID:10000994-1784226600-1784230200@northhalifaxpartnership.org
SUMMARY:Zumba
DESCRIPTION:Mandy is doing Zumba in the MAC! \n\n\n\nOpen to everyone\, just turn up\, no need to book. \n\n\n\n£4 per session.
URL:https://northhalifaxpartnership.org/event/zumba/2026-07-16/
CATEGORIES:Health & Wellbeing,Mixenden Activity Centre
ATTACH;FMTTYPE=image/webp:https://northhalifaxpartnership.org/wp-content/uploads/2025/10/zumba.webp
END:VEVENT
BEGIN:VEVENT
DTSTART;TZID=Europe/London:20260721T150000
DTEND;TZID=Europe/London:20260721T180000
DTSTAMP:20260420T100656
CREATED:20251103T132538Z
LAST-MODIFIED:20251103T132705Z
UID:10001261-1784646000-1784656800@northhalifaxpartnership.org
SUMMARY:Play Development Service
DESCRIPTION:They work on an open-access basis. \n\n\n\nChildren and young people are supervised\, but the parent or guardian is still responsible for them. \n\n\n\nYou are free to come and go as you please. \n\n\n\nThey offer a range of free play activities\, chosen by children and young people. \n\n\n\nThese can get messy\, so do please come in clothes that suit the activity and weather. \n\n\n\nContact them:\n\n\n\nPhone: \n\n\n\n07799 430175 or 07966 151413 (Play Leader) in case of an emergency. \n\n\n\n01422 380995 (Play Development Service) for more details or help.
URL:https://northhalifaxpartnership.org/event/play-development-service/2026-07-21/
LOCATION:Mixenden Activity Centre\, Clough Lane\, Mixenden\, HX2 8SH
CATEGORIES:Community Events,Family Support,Health & Wellbeing,Mixenden Activity Centre
ATTACH;FMTTYPE=image/jpeg:https://northhalifaxpartnership.org/wp-content/uploads/2025/11/Play-development-service-banner.jpg
END:VEVENT
BEGIN:VEVENT
DTSTART;TZID=Europe/London:20260722T100000
DTEND;TZID=Europe/London:20260722T120000
DTSTAMP:20260420T100656
CREATED:20251103T143531Z
LAST-MODIFIED:20251103T143534Z
UID:10001807-1784714400-1784721600@northhalifaxpartnership.org
SUMMARY:New Chapter\, New Me
DESCRIPTION:Have you been through your own cancer journey? \n\n\n\nWould you like to connect with others \n\n\n\nwho have had similar experiences? \n\n\n\nJoin our coffee morning for women who have been through their own cancer journey. Let’s come together to support each other and embrace your new version of yourself.
URL:https://northhalifaxpartnership.org/event/new-chapter-new-me/2026-07-22/
LOCATION:Illingworth Family Hub\, Occupation Lane\, Halifax\, HX2 9RL
CATEGORIES:Community Events,Health & Wellbeing,Staying Well
ATTACH;FMTTYPE=image/png:https://northhalifaxpartnership.org/wp-content/uploads/2025/11/New-Chapter-new-me-Facebook-Post.png
END:VEVENT
BEGIN:VEVENT
DTSTART;TZID=Europe/London:20260723T183000
DTEND;TZID=Europe/London:20260723T193000
DTSTAMP:20260420T100656
CREATED:20251103T130117Z
LAST-MODIFIED:20251103T130120Z
UID:10000995-1784831400-1784835000@northhalifaxpartnership.org
SUMMARY:Zumba
DESCRIPTION:Mandy is doing Zumba in the MAC! \n\n\n\nOpen to everyone\, just turn up\, no need to book. \n\n\n\n£4 per session.
URL:https://northhalifaxpartnership.org/event/zumba/2026-07-23/
CATEGORIES:Health & Wellbeing,Mixenden Activity Centre
ATTACH;FMTTYPE=image/webp:https://northhalifaxpartnership.org/wp-content/uploads/2025/10/zumba.webp
END:VEVENT
BEGIN:VEVENT
DTSTART;TZID=Europe/London:20260728T150000
DTEND;TZID=Europe/London:20260728T180000
DTSTAMP:20260420T100656
CREATED:20251103T132538Z
LAST-MODIFIED:20251103T132705Z
UID:10001262-1785250800-1785261600@northhalifaxpartnership.org
SUMMARY:Play Development Service
DESCRIPTION:They work on an open-access basis. \n\n\n\nChildren and young people are supervised\, but the parent or guardian is still responsible for them. \n\n\n\nYou are free to come and go as you please. \n\n\n\nThey offer a range of free play activities\, chosen by children and young people. \n\n\n\nThese can get messy\, so do please come in clothes that suit the activity and weather. \n\n\n\nContact them:\n\n\n\nPhone: \n\n\n\n07799 430175 or 07966 151413 (Play Leader) in case of an emergency. \n\n\n\n01422 380995 (Play Development Service) for more details or help.
URL:https://northhalifaxpartnership.org/event/play-development-service/2026-07-28/
LOCATION:Mixenden Activity Centre\, Clough Lane\, Mixenden\, HX2 8SH
CATEGORIES:Community Events,Family Support,Health & Wellbeing,Mixenden Activity Centre
ATTACH;FMTTYPE=image/jpeg:https://northhalifaxpartnership.org/wp-content/uploads/2025/11/Play-development-service-banner.jpg
END:VEVENT
BEGIN:VEVENT
DTSTART;TZID=Europe/London:20260729T100000
DTEND;TZID=Europe/London:20260729T120000
DTSTAMP:20260420T100656
CREATED:20251103T143531Z
LAST-MODIFIED:20251103T143534Z
UID:10001808-1785319200-1785326400@northhalifaxpartnership.org
SUMMARY:New Chapter\, New Me
DESCRIPTION:Have you been through your own cancer journey? \n\n\n\nWould you like to connect with others \n\n\n\nwho have had similar experiences? \n\n\n\nJoin our coffee morning for women who have been through their own cancer journey. Let’s come together to support each other and embrace your new version of yourself.
URL:https://northhalifaxpartnership.org/event/new-chapter-new-me/2026-07-29/
LOCATION:Illingworth Family Hub\, Occupation Lane\, Halifax\, HX2 9RL
CATEGORIES:Community Events,Health & Wellbeing,Staying Well
ATTACH;FMTTYPE=image/png:https://northhalifaxpartnership.org/wp-content/uploads/2025/11/New-Chapter-new-me-Facebook-Post.png
END:VEVENT
BEGIN:VEVENT
DTSTART;TZID=Europe/London:20260730T183000
DTEND;TZID=Europe/London:20260730T193000
DTSTAMP:20260420T100656
CREATED:20251103T130117Z
LAST-MODIFIED:20251103T130120Z
UID:10000996-1785436200-1785439800@northhalifaxpartnership.org
SUMMARY:Zumba
DESCRIPTION:Mandy is doing Zumba in the MAC! \n\n\n\nOpen to everyone\, just turn up\, no need to book. \n\n\n\n£4 per session.
URL:https://northhalifaxpartnership.org/event/zumba/2026-07-30/
CATEGORIES:Health & Wellbeing,Mixenden Activity Centre
ATTACH;FMTTYPE=image/webp:https://northhalifaxpartnership.org/wp-content/uploads/2025/10/zumba.webp
END:VEVENT
BEGIN:VEVENT
DTSTART;TZID=Europe/London:20260804T150000
DTEND;TZID=Europe/London:20260804T180000
DTSTAMP:20260420T100656
CREATED:20251103T132538Z
LAST-MODIFIED:20251103T132705Z
UID:10001263-1785855600-1785866400@northhalifaxpartnership.org
SUMMARY:Play Development Service
DESCRIPTION:They work on an open-access basis. \n\n\n\nChildren and young people are supervised\, but the parent or guardian is still responsible for them. \n\n\n\nYou are free to come and go as you please. \n\n\n\nThey offer a range of free play activities\, chosen by children and young people. \n\n\n\nThese can get messy\, so do please come in clothes that suit the activity and weather. \n\n\n\nContact them:\n\n\n\nPhone: \n\n\n\n07799 430175 or 07966 151413 (Play Leader) in case of an emergency. \n\n\n\n01422 380995 (Play Development Service) for more details or help.
URL:https://northhalifaxpartnership.org/event/play-development-service/2026-08-04/
LOCATION:Mixenden Activity Centre\, Clough Lane\, Mixenden\, HX2 8SH
CATEGORIES:Community Events,Family Support,Health & Wellbeing,Mixenden Activity Centre
ATTACH;FMTTYPE=image/jpeg:https://northhalifaxpartnership.org/wp-content/uploads/2025/11/Play-development-service-banner.jpg
END:VEVENT
END:VCALENDAR