BEGIN:VCALENDAR
VERSION:2.0
PRODID:-//North Halifax Partnership - ECPv6.15.20//NONSGML v1.0//EN
CALSCALE:GREGORIAN
METHOD:PUBLISH
X-ORIGINAL-URL:https://northhalifaxpartnership.org
X-WR-CALDESC:Events for North Halifax Partnership
REFRESH-INTERVAL;VALUE=DURATION:PT1H
X-Robots-Tag:noindex
X-PUBLISHED-TTL:PT1H
BEGIN:VTIMEZONE
TZID:Europe/London
BEGIN:DAYLIGHT
TZOFFSETFROM:+0000
TZOFFSETTO:+0100
TZNAME:BST
DTSTART:20250330T010000
END:DAYLIGHT
BEGIN:STANDARD
TZOFFSETFROM:+0100
TZOFFSETTO:+0000
TZNAME:GMT
DTSTART:20251026T010000
END:STANDARD
BEGIN:DAYLIGHT
TZOFFSETFROM:+0000
TZOFFSETTO:+0100
TZNAME:BST
DTSTART:20260329T010000
END:DAYLIGHT
BEGIN:STANDARD
TZOFFSETFROM:+0100
TZOFFSETTO:+0000
TZNAME:GMT
DTSTART:20261025T010000
END:STANDARD
BEGIN:DAYLIGHT
TZOFFSETFROM:+0000
TZOFFSETTO:+0100
TZNAME:BST
DTSTART:20270328T010000
END:DAYLIGHT
BEGIN:STANDARD
TZOFFSETFROM:+0100
TZOFFSETTO:+0000
TZNAME:GMT
DTSTART:20271031T010000
END:STANDARD
END:VTIMEZONE
BEGIN:VEVENT
DTSTART;TZID=Europe/London:20260214T100000
DTEND;TZID=Europe/London:20260214T120000
DTSTAMP:20260424T111344
CREATED:20251208T131854Z
LAST-MODIFIED:20251208T131858Z
UID:10002359-1771063200-1771070400@northhalifaxpartnership.org
SUMMARY:Saturday Family Fun Time
DESCRIPTION:Come and join us for lots of free fun activities for all the family.  There will be creative activities\, messy play\, games\, music and much more.  Dads and male carers are welcome. Suitable for families with children aged 0-8 years old
URL:https://northhalifaxpartnership.org/event/saturday-family-fun-time-2/
LOCATION:Little Stars Family Hub\, Parkinson Lane\, Halifax\, HX1 3XL
CATEGORIES:Baby & Toddler Groups,Community Events,Family Hubs
ATTACH;FMTTYPE=image/webp:https://northhalifaxpartnership.org/wp-content/uploads/2025/09/Creations-Nursery.webp
END:VEVENT
END:VCALENDAR