BEGIN:VCALENDAR
VERSION:2.0
PRODID:-//North Halifax Partnership - ECPv6.15.20//NONSGML v1.0//EN
CALSCALE:GREGORIAN
METHOD:PUBLISH
X-WR-CALNAME:North Halifax Partnership
X-ORIGINAL-URL:https://northhalifaxpartnership.org
X-WR-CALDESC:Events for North Halifax Partnership
REFRESH-INTERVAL;VALUE=DURATION:PT1H
X-Robots-Tag:noindex
X-PUBLISHED-TTL:PT1H
BEGIN:VTIMEZONE
TZID:Europe/London
BEGIN:DAYLIGHT
TZOFFSETFROM:+0000
TZOFFSETTO:+0100
TZNAME:BST
DTSTART:20250330T010000
END:DAYLIGHT
BEGIN:STANDARD
TZOFFSETFROM:+0100
TZOFFSETTO:+0000
TZNAME:GMT
DTSTART:20251026T010000
END:STANDARD
BEGIN:DAYLIGHT
TZOFFSETFROM:+0000
TZOFFSETTO:+0100
TZNAME:BST
DTSTART:20260329T010000
END:DAYLIGHT
BEGIN:STANDARD
TZOFFSETFROM:+0100
TZOFFSETTO:+0000
TZNAME:GMT
DTSTART:20261025T010000
END:STANDARD
BEGIN:DAYLIGHT
TZOFFSETFROM:+0000
TZOFFSETTO:+0100
TZNAME:BST
DTSTART:20270328T010000
END:DAYLIGHT
BEGIN:STANDARD
TZOFFSETFROM:+0100
TZOFFSETTO:+0000
TZNAME:GMT
DTSTART:20271031T010000
END:STANDARD
END:VTIMEZONE
BEGIN:VEVENT
DTSTART;TZID=Europe/London:20260303T091500
DTEND;TZID=Europe/London:20260303T104500
DTSTAMP:20260424T125210
CREATED:20251107T130337Z
LAST-MODIFIED:20251107T130340Z
UID:10002056-1772529300-1772534700@northhalifaxpartnership.org
SUMMARY:Baby and Toddler Group
DESCRIPTION:Baby & Toddler Group \n\n\n\nUp to 4 years old \n\n\n\nTerm time only \n\n\n\nNo booking required \n\n\n\nFirst session free then £1.60 per family
URL:https://northhalifaxpartnership.org/event/baby-and-toddler-group/2026-03-03/
LOCATION:Creations Family Hub\, Albert Road\, HX2 0QD
CATEGORIES:Baby & Toddler Groups
ATTACH;FMTTYPE=image/png:https://northhalifaxpartnership.org/wp-content/uploads/2025/11/Wall-Planner-CENTRAL-AW-25.png
END:VEVENT
BEGIN:VEVENT
DTSTART;TZID=Europe/London:20260310T091500
DTEND;TZID=Europe/London:20260310T104500
DTSTAMP:20260424T125210
CREATED:20251107T130337Z
LAST-MODIFIED:20251107T130340Z
UID:10002057-1773134100-1773139500@northhalifaxpartnership.org
SUMMARY:Baby and Toddler Group
DESCRIPTION:Baby & Toddler Group \n\n\n\nUp to 4 years old \n\n\n\nTerm time only \n\n\n\nNo booking required \n\n\n\nFirst session free then £1.60 per family
URL:https://northhalifaxpartnership.org/event/baby-and-toddler-group/2026-03-10/
LOCATION:Creations Family Hub\, Albert Road\, HX2 0QD
CATEGORIES:Baby & Toddler Groups
ATTACH;FMTTYPE=image/png:https://northhalifaxpartnership.org/wp-content/uploads/2025/11/Wall-Planner-CENTRAL-AW-25.png
END:VEVENT
BEGIN:VEVENT
DTSTART;TZID=Europe/London:20260314T100000
DTEND;TZID=Europe/London:20260314T120000
DTSTAMP:20260424T125210
CREATED:20251208T132022Z
LAST-MODIFIED:20251208T132024Z
UID:10002360-1773482400-1773489600@northhalifaxpartnership.org
SUMMARY:Saturday Family Fun Time
DESCRIPTION:Come and join us for lots of free fun activities for all the family.  There will be creative activities\, messy play\, games\, music and much more.  Dads and male carers are welcome. Suitable for families with children aged 0-8 years old
URL:https://northhalifaxpartnership.org/event/saturday-family-fun-time-3/
LOCATION:Todmorden Health Centre\, Lower George Street Off Halifax Road Todmorden\, OL14 5RN
CATEGORIES:Baby & Toddler Groups,Community Events,Family Hubs
ATTACH;FMTTYPE=image/webp:https://northhalifaxpartnership.org/wp-content/uploads/2025/09/Creations-Nursery.webp
END:VEVENT
BEGIN:VEVENT
DTSTART;TZID=Europe/London:20260317T091500
DTEND;TZID=Europe/London:20260317T104500
DTSTAMP:20260424T125210
CREATED:20251107T130337Z
LAST-MODIFIED:20251107T130340Z
UID:10002058-1773738900-1773744300@northhalifaxpartnership.org
SUMMARY:Baby and Toddler Group
DESCRIPTION:Baby & Toddler Group \n\n\n\nUp to 4 years old \n\n\n\nTerm time only \n\n\n\nNo booking required \n\n\n\nFirst session free then £1.60 per family
URL:https://northhalifaxpartnership.org/event/baby-and-toddler-group/2026-03-17/
LOCATION:Creations Family Hub\, Albert Road\, HX2 0QD
CATEGORIES:Baby & Toddler Groups
ATTACH;FMTTYPE=image/png:https://northhalifaxpartnership.org/wp-content/uploads/2025/11/Wall-Planner-CENTRAL-AW-25.png
END:VEVENT
BEGIN:VEVENT
DTSTART;TZID=Europe/London:20260324T091500
DTEND;TZID=Europe/London:20260324T104500
DTSTAMP:20260424T125210
CREATED:20251107T130337Z
LAST-MODIFIED:20251107T130340Z
UID:10002059-1774343700-1774349100@northhalifaxpartnership.org
SUMMARY:Baby and Toddler Group
DESCRIPTION:Baby & Toddler Group \n\n\n\nUp to 4 years old \n\n\n\nTerm time only \n\n\n\nNo booking required \n\n\n\nFirst session free then £1.60 per family
URL:https://northhalifaxpartnership.org/event/baby-and-toddler-group/2026-03-24/
LOCATION:Creations Family Hub\, Albert Road\, HX2 0QD
CATEGORIES:Baby & Toddler Groups
ATTACH;FMTTYPE=image/png:https://northhalifaxpartnership.org/wp-content/uploads/2025/11/Wall-Planner-CENTRAL-AW-25.png
END:VEVENT
BEGIN:VEVENT
DTSTART;TZID=Europe/London:20260331T091500
DTEND;TZID=Europe/London:20260331T104500
DTSTAMP:20260424T125210
CREATED:20251107T130337Z
LAST-MODIFIED:20251107T130340Z
UID:10002060-1774948500-1774953900@northhalifaxpartnership.org
SUMMARY:Baby and Toddler Group
DESCRIPTION:Baby & Toddler Group \n\n\n\nUp to 4 years old \n\n\n\nTerm time only \n\n\n\nNo booking required \n\n\n\nFirst session free then £1.60 per family
URL:https://northhalifaxpartnership.org/event/baby-and-toddler-group/2026-03-31/
LOCATION:Creations Family Hub\, Albert Road\, HX2 0QD
CATEGORIES:Baby & Toddler Groups
ATTACH;FMTTYPE=image/png:https://northhalifaxpartnership.org/wp-content/uploads/2025/11/Wall-Planner-CENTRAL-AW-25.png
END:VEVENT
END:VCALENDAR