BEGIN:VCALENDAR
VERSION:2.0
PRODID:-//North Halifax Partnership - ECPv6.15.20//NONSGML v1.0//EN
CALSCALE:GREGORIAN
METHOD:PUBLISH
X-WR-CALNAME:North Halifax Partnership
X-ORIGINAL-URL:https://northhalifaxpartnership.org
X-WR-CALDESC:Events for North Halifax Partnership
REFRESH-INTERVAL;VALUE=DURATION:PT1H
X-Robots-Tag:noindex
X-PUBLISHED-TTL:PT1H
BEGIN:VTIMEZONE
TZID:Europe/London
BEGIN:DAYLIGHT
TZOFFSETFROM:+0000
TZOFFSETTO:+0100
TZNAME:BST
DTSTART:20240331T010000
END:DAYLIGHT
BEGIN:STANDARD
TZOFFSETFROM:+0100
TZOFFSETTO:+0000
TZNAME:GMT
DTSTART:20241027T010000
END:STANDARD
BEGIN:DAYLIGHT
TZOFFSETFROM:+0000
TZOFFSETTO:+0100
TZNAME:BST
DTSTART:20250330T010000
END:DAYLIGHT
BEGIN:STANDARD
TZOFFSETFROM:+0100
TZOFFSETTO:+0000
TZNAME:GMT
DTSTART:20251026T010000
END:STANDARD
BEGIN:DAYLIGHT
TZOFFSETFROM:+0000
TZOFFSETTO:+0100
TZNAME:BST
DTSTART:20260329T010000
END:DAYLIGHT
BEGIN:STANDARD
TZOFFSETFROM:+0100
TZOFFSETTO:+0000
TZNAME:GMT
DTSTART:20261025T010000
END:STANDARD
END:VTIMEZONE
BEGIN:VEVENT
DTSTART;TZID=Europe/London:20251028T140000
DTEND;TZID=Europe/London:20251028T153000
DTSTAMP:20260424T124129
CREATED:20251020T155320Z
LAST-MODIFIED:20251020T155324Z
UID:13941-1761660000-1761665400@northhalifaxpartnership.org
SUMMARY:Halloween Arts and Crafts
DESCRIPTION:Join us for some spooky Halloween crafts and a special Halloween story time session \n\n\n\nAimed at children 5 years and under \n\n\n\nFancy dress optional
URL:https://northhalifaxpartnership.org/event/halloween-arts-and-crafts/
ATTACH;FMTTYPE=image/png:https://northhalifaxpartnership.org/wp-content/uploads/2025/10/Halloween-Party-Facebook-Post-3.png
END:VEVENT
END:VCALENDAR